FILENAME: 36119F22
QUADRANGLE_NAME: TUCKER MOUNTAIN
QUADRANT: NE
WEST_LONGITUDE: -119 11 15.00000
EAST_LONGITUDE: -119 7 30.00000
NORTH_LATITUDE: 36 45 0.00000
SOUTH_LATITUDE: 36 41 15.00000
PRODUCTION_DATE: 2002 02 15
RASTER_ORDER: LEFT_RIGHT/TOP_BOTTOM
BAND_ORGANIZATION: SINGLE FILE
BAND_CONTENT: BLACK&WHITE
BAND_CONTENT: UNDEFINED
BAND_CONTENT: UNDEFINED
BITS_PER_PIXEL: 8
SAMPLES_AND_LINES: 6450 7680
HORIZONTAL_DATUM: NAD83
HORIZONTAL_COORDINATE_SYSTEM: UTM
COORDINATE_ZONE: 11
HORIZONTAL_UNITS: METERS
HORIZONTAL_RESOLUTION: 1.00000
SECONDARY_HORIZONTAL_DATUM: NAD27
XY_ORIGIN: 304170.00000 4069680.00000
SECONDARY_XY_ORIGIN: 304250.20700 4069481.35400
NATION: US
STATE: CA
NW_QUAD_CORNER_XY: 304715.89400 4069370.75100
NE_QUAD_CORNER_XY: 310296.18400 4069245.03900
SE_QUAD_CORNERY_XY: 310142.34600 4062310.66800
SW_QUAD_CORNER_XY: 304557.52500 4062436.29900
SECONDARY_NW_QUAD_XY: 304711.16500 4069168.28300
SECONDARY_NE_QUAD_XY: 310291.59000 4069042.56800
SECONDARY_SE_QUAD_XY: 310137.75500 4062108.36300
SECONDARY_SW_QUAD_XY: 304552.80000 4062233.99600
RMSE_XY: 1.68000
IMAGE_SOURCE: BLACK AND WHITE FILM
SOURCE_IMAGE_ID: NAPP 10547 267
SOURCE_IMAGE_DATE: 1998 08 17
SOURCE_IMAGE_ID: NAPP 10547 252
SOURCE_IMAGE_DATE: 1998 08 17
SOURCE_DEM_DATE: 1966 00 00
AGENCY: WESTERN MAPPING CENTER (WMC)
PRODUCER: SANBORN COLORADO, L.L.C.
PRODUCTION_SYSTEM: ORBIT OR_RECTIFY V.5.2
COMPRESSION: UNDEFINED
STANDARD_VERSION: 1996 12
METADATA_DATE: 2002 02 20
DATA_FILE_SIZE: 49542450
BYTE_COUNT: 6450
