FILENAME: 36119F23
QUADRANGLE_NAME: TUCKER MOUNTAIN
QUADRANT: SE
WEST_LONGITUDE: -119 11 15.00000
EAST_LONGITUDE: -119 7 30.00000
NORTH_LATITUDE: 36 41 15.00000
SOUTH_LATITUDE: 36 37 30.00000
PRODUCTION_DATE: 2002 02 15
RASTER_ORDER: LEFT_RIGHT/TOP_BOTTOM
BAND_ORGANIZATION: SINGLE FILE
BAND_CONTENT: BLACK&WHITE
BAND_CONTENT: UNDEFINED
BAND_CONTENT: UNDEFINED
BITS_PER_PIXEL: 8
SAMPLES_AND_LINES: 6480 7680
HORIZONTAL_DATUM: NAD83
HORIZONTAL_COORDINATE_SYSTEM: UTM
COORDINATE_ZONE: 11
HORIZONTAL_UNITS: METERS
HORIZONTAL_RESOLUTION: 1.00000
SECONDARY_HORIZONTAL_DATUM: NAD27
XY_ORIGIN: 303990.00000 4062750.00000
SECONDARY_XY_ORIGIN: 304070.15500 4062551.47500
NATION: US
STATE: CA
NW_QUAD_CORNER_XY: 304557.52500 4062436.29900
NE_QUAD_CORNER_XY: 310142.34600 4062310.66800
SE_QUAD_CORNERY_XY: 309988.73400 4055376.36000
SW_QUAD_CORNER_XY: 304399.38900 4055501.90800
SECONDARY_NW_QUAD_XY: 304552.80000 4062233.99600
SECONDARY_NE_QUAD_XY: 310137.75500 4062108.36300
SECONDARY_SE_QUAD_XY: 309984.14800 4055174.22200
SECONDARY_SW_QUAD_XY: 304394.66800 4055299.77300
RMSE_XY: 1.01000
IMAGE_SOURCE: BLACK AND WHITE FILM
SOURCE_IMAGE_ID: NAPP 10547 265
SOURCE_IMAGE_DATE: 1998 08 17
SOURCE_IMAGE_ID: NAPP 10547 267
SOURCE_IMAGE_DATE: 1998 08 17
SOURCE_IMAGE_ID: NAPP 10547 254
SOURCE_IMAGE_DATE: 1998 08 17
SOURCE_IMAGE_ID: NAPP 10547 263
SOURCE_IMAGE_DATE: 1998 08 17
SOURCE_DEM_DATE: 1966 00 00
AGENCY: WESTERN MAPPING CENTER (WMC)
PRODUCER: SANBORN COLORADO, L.L.C.
PRODUCTION_SYSTEM: ORBIT OR_RECTIFY V.5.2
COMPRESSION: UNDEFINED
STANDARD_VERSION: 1996 12
METADATA_DATE: 2002 03 05
DATA_FILE_SIZE: 49772880
BYTE_COUNT: 6480
