FILENAME: 36119F24
QUADRANGLE_NAME: TUCKER MOUNTAIN
QUADRANT: SW
WEST_LONGITUDE: -119 15 0.00000
EAST_LONGITUDE: -119 11 15.00000
NORTH_LATITUDE: 36 41 15.00000
SOUTH_LATITUDE: 36 37 30.00000
PRODUCTION_DATE: 2002 02 15
RASTER_ORDER: LEFT_RIGHT/TOP_BOTTOM
BAND_ORGANIZATION: SINGLE FILE
BAND_CONTENT: BLACK&WHITE
BAND_CONTENT: UNDEFINED
BAND_CONTENT: UNDEFINED
BITS_PER_PIXEL: 8
SAMPLES_AND_LINES: 6450 7680
HORIZONTAL_DATUM: NAD83
HORIZONTAL_COORDINATE_SYSTEM: UTM
COORDINATE_ZONE: 11
HORIZONTAL_UNITS: METERS
HORIZONTAL_RESOLUTION: 1.00000
SECONDARY_HORIZONTAL_DATUM: NAD27
XY_ORIGIN: 298410.00000 4062870.00000
SECONDARY_XY_ORIGIN: 298490.23700 4062671.37900
NATION: US
STATE: CA
NW_QUAD_CORNER_XY: 298972.63800 4062565.57500
NE_QUAD_CORNER_XY: 304557.52500 4062436.29900
SE_QUAD_CORNERY_XY: 304399.38900 4055501.90800
SW_QUAD_CORNER_XY: 298809.97700 4055631.10000
SECONDARY_NW_QUAD_XY: 298967.77700 4062363.27600
SECONDARY_NE_QUAD_XY: 304552.80000 4062233.99600
SECONDARY_SE_QUAD_XY: 304394.66800 4055299.77300
SECONDARY_SW_QUAD_XY: 298805.12100 4055428.96800
RMSE_XY: 1.33000
IMAGE_SOURCE: BLACK AND WHITE FILM
SOURCE_IMAGE_ID: NAPP 10547 254
SOURCE_IMAGE_DATE: 1998 08 17
SOURCE_DEM_DATE: 1966 00 00
AGENCY: WESTERN MAPPING CENTER (WMC)
PRODUCER: SANBORN COLORADO, L.L.C.
PRODUCTION_SYSTEM: ORBIT OR_RECTIFY V.5.2
COMPRESSION: UNDEFINED
STANDARD_VERSION: 1996 12
METADATA_DATE: 2002 02 20
DATA_FILE_SIZE: 49542450
BYTE_COUNT: 6450
