FILENAME: 36119F33
QUADRANGLE_NAME: ORANGE COVE NORTH
QUADRANT: SE
WEST_LONGITUDE: -119 18 45.00000
EAST_LONGITUDE: -119 15 0.00000
NORTH_LATITUDE: 36 41 15.00000
SOUTH_LATITUDE: 36 37 30.00000
PRODUCTION_DATE: 2002 02 13
RASTER_ORDER: LEFT_RIGHT/TOP_BOTTOM
BAND_ORGANIZATION: SINGLE FILE
BAND_CONTENT: BLACK&WHITE
BAND_CONTENT: UNDEFINED
BAND_CONTENT: UNDEFINED
BITS_PER_PIXEL: 8
SAMPLES_AND_LINES: 6450 7710
HORIZONTAL_DATUM: NAD83
HORIZONTAL_COORDINATE_SYSTEM: UTM
COORDINATE_ZONE: 11
HORIZONTAL_UNITS: METERS
HORIZONTAL_RESOLUTION: 1.00000
SECONDARY_HORIZONTAL_DATUM: NAD27
XY_ORIGIN: 292830.00000 4063020.00000
SECONDARY_XY_ORIGIN: 292910.36700 4062821.26900
NATION: US
STATE: CA
NW_QUAD_CORNER_XY: 293387.68100 4062698.49900
NE_QUAD_CORNER_XY: 298972.63800 4062565.57500
SE_QUAD_CORNERY_XY: 298809.97700 4055631.10000
SW_QUAD_CORNER_XY: 293220.49500 4055763.93700
SECONDARY_NW_QUAD_XY: 293382.68600 4062496.20300
SECONDARY_NE_QUAD_XY: 298967.77700 4062363.27600
SECONDARY_SE_QUAD_XY: 298805.12100 4055428.96800
SECONDARY_SW_QUAD_XY: 293215.50400 4055561.80800
RMSE_XY: 1.27000
IMAGE_SOURCE: BLACK AND WHITE FILM
SOURCE_IMAGE_ID: NAPP 10547 231
SOURCE_IMAGE_DATE: 1998 08 17
SOURCE_IMAGE_ID: NAPP 10547 233
SOURCE_IMAGE_DATE: 1998 08 17
SOURCE_DEM_DATE: 1966 00 00
AGENCY: WESTERN MAPPING CENTER (WMC)
PRODUCER: SANBORN COLORADO, L.L.C.
PRODUCTION_SYSTEM: ORBIT OR_RECTIFY V.5.2
COMPRESSION: UNDEFINED
STANDARD_VERSION: 1996 12
METADATA_DATE: 2002 02 14
DATA_FILE_SIZE: 49735950
BYTE_COUNT: 6450
