FILENAME: 36119F41
QUADRANGLE_NAME: WAHTOKE
QUADRANT: NW
WEST_LONGITUDE: -119 30 0.00000
EAST_LONGITUDE: -119 26 15.00000
NORTH_LATITUDE: 36 45 0.00000
SOUTH_LATITUDE: 36 41 15.00000
PRODUCTION_DATE: 2002 02 13
RASTER_ORDER: LEFT_RIGHT/TOP_BOTTOM
BAND_ORGANIZATION: SINGLE FILE
BAND_CONTENT: BLACK&WHITE
BAND_CONTENT: UNDEFINED
BAND_CONTENT: UNDEFINED
BITS_PER_PIXEL: 8
SAMPLES_AND_LINES: 6480 7710
HORIZONTAL_DATUM: NAD83
HORIZONTAL_COORDINATE_SYSTEM: UTM
COORDINATE_ZONE: 11
HORIZONTAL_UNITS: METERS
HORIZONTAL_RESOLUTION: 1.00000
SECONDARY_HORIZONTAL_DATUM: NAD27
XY_ORIGIN: 276240.00000 4070370.00000
SECONDARY_XY_ORIGIN: 276320.74300 4070170.77800
NATION: US
STATE: CA
NW_QUAD_CORNER_XY: 276813.41000 4070054.05500
NE_QUAD_CORNER_XY: 282394.05100 4069910.09400
SE_QUAD_CORNERY_XY: 282217.55300 4062975.29000
SW_QUAD_CORNER_XY: 276632.37900 4063119.15800
SECONDARY_NW_QUAD_XY: 276808.00500 4069851.60400
SECONDARY_NE_QUAD_XY: 282388.78100 4069707.63900
SECONDARY_SE_QUAD_XY: 282212.28800 4062773.00100
SECONDARY_SW_QUAD_XY: 276626.97800 4062916.87300
RMSE_XY: 0.87000
IMAGE_SOURCE: BLACK AND WHITE FILM
SOURCE_IMAGE_ID: NAPP 10547 282
SOURCE_IMAGE_DATE: 1998 08 17
SOURCE_DEM_DATE: 1956 00 00
AGENCY: WESTERN MAPPING CENTER (WMC)
PRODUCER: SANBORN COLORADO, L.L.C.
PRODUCTION_SYSTEM: ORBIT OR_RECTIFY V.5.2
COMPRESSION: UNDEFINED
STANDARD_VERSION: 1996 12
METADATA_DATE: 2002 02 14
DATA_FILE_SIZE: 49967280
BYTE_COUNT: 6480
