FILENAME: 36119F44
QUADRANGLE_NAME: WAHTOKE
QUADRANT: SW
WEST_LONGITUDE: -119 30 0.00000
EAST_LONGITUDE: -119 26 15.00000
NORTH_LATITUDE: 36 41 15.00000
SOUTH_LATITUDE: 36 37 30.00000
PRODUCTION_DATE: 2002 02 13
RASTER_ORDER: LEFT_RIGHT/TOP_BOTTOM
BAND_ORGANIZATION: SINGLE FILE
BAND_CONTENT: BLACK&WHITE
BAND_CONTENT: UNDEFINED
BAND_CONTENT: UNDEFINED
BITS_PER_PIXEL: 8
SAMPLES_AND_LINES: 6480 7710
HORIZONTAL_DATUM: NAD83
HORIZONTAL_COORDINATE_SYSTEM: UTM
COORDINATE_ZONE: 11
HORIZONTAL_UNITS: METERS
HORIZONTAL_RESOLUTION: 1.00000
SECONDARY_HORIZONTAL_DATUM: NAD27
XY_ORIGIN: 276060.00000 4063440.00000
SECONDARY_XY_ORIGIN: 276140.74000 4063240.93100
NATION: US
STATE: CA
NW_QUAD_CORNER_XY: 276632.37900 4063119.15800
NE_QUAD_CORNER_XY: 282217.55300 4062975.29000
SE_QUAD_CORNERY_XY: 282041.31500 4056040.54700
SW_QUAD_CORNER_XY: 276451.61300 4056184.32100
SECONDARY_NW_QUAD_XY: 276626.97800 4062916.87300
SECONDARY_NE_QUAD_XY: 282212.28800 4062773.00100
SECONDARY_SE_QUAD_XY: 282036.05400 4055838.42400
SECONDARY_SW_QUAD_XY: 276446.21600 4055982.20200
RMSE_XY: 1.06000
IMAGE_SOURCE: BLACK AND WHITE FILM
SOURCE_IMAGE_ID: NAPP 10547 284
SOURCE_IMAGE_DATE: 1998 08 17
SOURCE_DEM_DATE: 1956 00 00
AGENCY: WESTERN MAPPING CENTER (WMC)
PRODUCER: SANBORN COLORADO, L.L.C.
PRODUCTION_SYSTEM: ORBIT OR_RECTIFY V.5.2
COMPRESSION: UNDEFINED
STANDARD_VERSION: 1996 12
METADATA_DATE: 2002 02 14
DATA_FILE_SIZE: 49967280
BYTE_COUNT: 6480
