FILENAME: 36119F51
QUADRANGLE_NAME: SANGER
QUADRANT: NW
WEST_LONGITUDE: -119 37 30.00000
EAST_LONGITUDE: -119 33 45.00000
NORTH_LATITUDE: 36 45 0.00000
SOUTH_LATITUDE: 36 41 15.00000
PRODUCTION_DATE: 2002 02 13
RASTER_ORDER: LEFT_RIGHT/TOP_BOTTOM
BAND_ORGANIZATION: SINGLE FILE
BAND_CONTENT: BLACK&WHITE
BAND_CONTENT: UNDEFINED
BAND_CONTENT: UNDEFINED
BITS_PER_PIXEL: 8
SAMPLES_AND_LINES: 6510 7710
HORIZONTAL_DATUM: NAD83
HORIZONTAL_COORDINATE_SYSTEM: UTM
COORDINATE_ZONE: 11
HORIZONTAL_UNITS: METERS
HORIZONTAL_RESOLUTION: 1.00000
SECONDARY_HORIZONTAL_DATUM: NAD27
XY_ORIGIN: 265050.00000 4070670.00000
SECONDARY_XY_ORIGIN: 265131.06800 4070470.69800
NATION: US
STATE: CA
NW_QUAD_CORNER_XY: 265651.89800 4070352.93300
NE_QUAD_CORNER_XY: 271232.69300 4070201.66800
SE_QUAD_CORNERY_XY: 271047.12700 4063266.67500
SW_QUAD_CORNER_XY: 265461.79700 4063417.84200
SECONDARY_NW_QUAD_XY: 265646.22200 4070150.48900
SECONDARY_NE_QUAD_XY: 271227.15300 4069999.22000
SECONDARY_SE_QUAD_XY: 271041.59100 4063064.39300
SECONDARY_SW_QUAD_XY: 265456.12600 4063215.56300
RMSE_XY: 0.72000
IMAGE_SOURCE: BLACK AND WHITE FILM
SOURCE_IMAGE_ID: NAPP 10547 297
SOURCE_IMAGE_DATE: 1998 08 17
SOURCE_DEM_DATE: 1981 00 00
AGENCY: WESTERN MAPPING CENTER (WMC)
PRODUCER: SANBORN COLORADO, L.L.C.
PRODUCTION_SYSTEM: ORBIT OR_RECTIFY V.5.2
COMPRESSION: UNDEFINED
STANDARD_VERSION: 1996 12
METADATA_DATE: 2002 02 14
DATA_FILE_SIZE: 50198610
BYTE_COUNT: 6510
