FILENAME: 36119F53
QUADRANGLE_NAME: SANGER
QUADRANT: SE
WEST_LONGITUDE: -119 33 45.00000
EAST_LONGITUDE: -119 30 0.00000
NORTH_LATITUDE: 36 41 15.00000
SOUTH_LATITUDE: 36 37 30.00000
PRODUCTION_DATE: 2002 02 13
RASTER_ORDER: LEFT_RIGHT/TOP_BOTTOM
BAND_ORGANIZATION: SINGLE FILE
BAND_CONTENT: BLACK&WHITE
BAND_CONTENT: UNDEFINED
BAND_CONTENT: UNDEFINED
BITS_PER_PIXEL: 8
SAMPLES_AND_LINES: 6510 7710
HORIZONTAL_DATUM: NAD83
HORIZONTAL_COORDINATE_SYSTEM: UTM
COORDINATE_ZONE: 11
HORIZONTAL_UNITS: METERS
HORIZONTAL_RESOLUTION: 1.00000
SECONDARY_HORIZONTAL_DATUM: NAD27
XY_ORIGIN: 270450.00000 4063590.00000
SECONDARY_XY_ORIGIN: 270530.88100 4063390.89700
NATION: US
STATE: CA
NW_QUAD_CORNER_XY: 271047.12700 4063266.67500
NE_QUAD_CORNER_XY: 276632.37900 4063119.15800
SE_QUAD_CORNERY_XY: 276451.61300 4056184.32100
SW_QUAD_CORNER_XY: 270861.83400 4056331.74100
SECONDARY_NW_QUAD_XY: 271041.59100 4063064.39300
SECONDARY_NE_QUAD_XY: 276626.97800 4062916.87300
SECONDARY_SE_QUAD_XY: 276446.21600 4055982.20200
SECONDARY_SW_QUAD_XY: 270856.30200 4056129.62600
RMSE_XY: 0.53000
IMAGE_SOURCE: BLACK AND WHITE FILM
SOURCE_IMAGE_ID: NAPP 10560 105
SOURCE_IMAGE_DATE: 1998 09 12
SOURCE_DEM_DATE: 1981 00 00
AGENCY: WESTERN MAPPING CENTER (WMC)
PRODUCER: SANBORN COLORADO, L.L.C.
PRODUCTION_SYSTEM: ORBIT OR_RECTIFY V.5.2
COMPRESSION: UNDEFINED
STANDARD_VERSION: 1996 12
METADATA_DATE: 2002 02 14
DATA_FILE_SIZE: 50198610
BYTE_COUNT: 6510
