FILENAME: 36119F54
QUADRANGLE_NAME: SANGER
QUADRANT: SW
WEST_LONGITUDE: -119 37 30.00000
EAST_LONGITUDE: -119 33 45.00000
NORTH_LATITUDE: 36 41 15.00000
SOUTH_LATITUDE: 36 37 30.00000
PRODUCTION_DATE: 2002 02 13
RASTER_ORDER: LEFT_RIGHT/TOP_BOTTOM
BAND_ORGANIZATION: SINGLE FILE
BAND_CONTENT: BLACK&WHITE
BAND_CONTENT: UNDEFINED
BAND_CONTENT: UNDEFINED
BITS_PER_PIXEL: 8
SAMPLES_AND_LINES: 6480 7740
HORIZONTAL_DATUM: NAD83
HORIZONTAL_COORDINATE_SYSTEM: UTM
COORDINATE_ZONE: 11
HORIZONTAL_UNITS: METERS
HORIZONTAL_RESOLUTION: 1.00000
SECONDARY_HORIZONTAL_DATUM: NAD27
XY_ORIGIN: 264870.00000 4063740.00000
SECONDARY_XY_ORIGIN: 264951.02800 4063540.85800
NATION: US
STATE: CA
NW_QUAD_CORNER_XY: 265461.79700 4063417.84200
NE_QUAD_CORNER_XY: 271047.12700 4063266.67500
SE_QUAD_CORNERY_XY: 270861.83400 4056331.74100
SW_QUAD_CORNER_XY: 265271.97500 4056482.80800
SECONDARY_NW_QUAD_XY: 265456.12600 4063215.56300
SECONDARY_NE_QUAD_XY: 271041.59100 4063064.39300
SECONDARY_SE_QUAD_XY: 270856.30200 4056129.62600
SECONDARY_SW_QUAD_XY: 265266.30900 4056280.69700
RMSE_XY: 0.89000
IMAGE_SOURCE: BLACK AND WHITE FILM
SOURCE_IMAGE_ID: NAPP 10547 295
SOURCE_IMAGE_DATE: 1998 08 17
SOURCE_DEM_DATE: 1981 00 00
AGENCY: WESTERN MAPPING CENTER (WMC)
PRODUCER: SANBORN COLORADO, L.L.C.
PRODUCTION_SYSTEM: ORBIT OR_RECTIFY V.5.2
COMPRESSION: UNDEFINED
STANDARD_VERSION: 1996 12
METADATA_DATE: 2002 02 14
DATA_FILE_SIZE: 50161680
BYTE_COUNT: 6480
