FILENAME: 36119F61
QUADRANGLE_NAME: MALAGA
QUADRANT: NW
WEST_LONGITUDE: -119 45 0.00000
EAST_LONGITUDE: -119 41 15.00000
NORTH_LATITUDE: 36 45 0.00000
SOUTH_LATITUDE: 36 41 15.00000
PRODUCTION_DATE: 2001 11 08
RASTER_ORDER: LEFT_RIGHT/TOP_BOTTOM
BAND_ORGANIZATION: SINGLE FILE
BAND_CONTENT: BLACK&WHITE
BAND_CONTENT: UNDEFINED
BAND_CONTENT: UNDEFINED
BITS_PER_PIXEL: 8
SAMPLES_AND_LINES: 6510 7710
HORIZONTAL_DATUM: NAD83
HORIZONTAL_COORDINATE_SYSTEM: UTM
COORDINATE_ZONE: 11
HORIZONTAL_UNITS: METERS
HORIZONTAL_RESOLUTION: 1.00000
SECONDARY_HORIZONTAL_DATUM: NAD27
XY_ORIGIN: 253890.00000 4070970.00000
SECONDARY_XY_ORIGIN: 253971.39700 4070770.61200
NATION: US
STATE: CA
NW_QUAD_CORNER_XY: 254490.06700 4070666.42000
NE_QUAD_CORNER_XY: 260071.02300 4070507.85000
SE_QUAD_CORNERY_XY: 259876.38600 4063572.65800
SW_QUAD_CORNER_XY: 254290.89400 4063731.12500
SECONDARY_NW_QUAD_XY: 254484.12000 4070463.98300
SECONDARY_NE_QUAD_XY: 260065.21200 4070305.40900
SECONDARY_SE_QUAD_XY: 259870.58000 4063370.38400
SECONDARY_SW_QUAD_XY: 254284.95200 4063528.85400
RMSE_XY: 0.71000
IMAGE_SOURCE: BLACK AND WHITE FILM
SOURCE_IMAGE_ID: NAPP 10547 134
SOURCE_IMAGE_DATE: 1998 08 17
SOURCE_IMAGE_ID: NAPP 10560 117
SOURCE_IMAGE_DATE: 1998 09 12
SOURCE_DEM_DATE: 1981 00 00
AGENCY: WESTERN MAPPING CENTER (WMC)
PRODUCER: SANBORN COLORADO, L.L.C.
PRODUCTION_SYSTEM: ORBIT OR_RECTIFY V.5.2
COMPRESSION: UNDEFINED
STANDARD_VERSION: 1996 12
METADATA_DATE: 2001 11 12
DATA_FILE_SIZE: 50198610
BYTE_COUNT: 6510
