FILENAME: 36119F63
QUADRANGLE_NAME: MALAGA
QUADRANT: SE
WEST_LONGITUDE: -119 41 15.00000
EAST_LONGITUDE: -119 37 30.00000
NORTH_LATITUDE: 36 41 15.00000
SOUTH_LATITUDE: 36 37 30.00000
PRODUCTION_DATE: 2001 11 08
RASTER_ORDER: LEFT_RIGHT/TOP_BOTTOM
BAND_ORGANIZATION: SINGLE FILE
BAND_CONTENT: BLACK&WHITE
BAND_CONTENT: UNDEFINED
BAND_CONTENT: UNDEFINED
BITS_PER_PIXEL: 8
SAMPLES_AND_LINES: 6480 7740
HORIZONTAL_DATUM: NAD83
HORIZONTAL_COORDINATE_SYSTEM: UTM
COORDINATE_ZONE: 11
HORIZONTAL_UNITS: METERS
HORIZONTAL_RESOLUTION: 1.00000
SECONDARY_HORIZONTAL_DATUM: NAD27
XY_ORIGIN: 259290.00000 4063890.00000
SECONDARY_XY_ORIGIN: 259371.17500 4063690.81900
NATION: US
STATE: CA
NW_QUAD_CORNER_XY: 259876.38600 4063572.65800
NE_QUAD_CORNER_XY: 265461.79700 4063417.84200
SE_QUAD_CORNERY_XY: 265271.97500 4056482.80800
SW_QUAD_CORNER_XY: 259682.03600 4056637.52300
SECONDARY_NW_QUAD_XY: 259870.58000 4063370.38400
SECONDARY_NE_QUAD_XY: 265456.12600 4063215.56300
SECONDARY_SE_QUAD_XY: 265266.30900 4056280.69700
SECONDARY_SW_QUAD_XY: 259676.23400 4056435.41500
RMSE_XY: 1.04000
IMAGE_SOURCE: BLACK AND WHITE FILM
SOURCE_IMAGE_ID: NAPP 10547 147
SOURCE_IMAGE_DATE: 1998 08 17
SOURCE_DEM_DATE: 1981 00 00
AGENCY: WESTERN MAPPING CENTER (WMC)
PRODUCER: SANBORN COLORADO, L.L.C.
PRODUCTION_SYSTEM: ORBIT OR_RECTIFY V.5.2
COMPRESSION: UNDEFINED
STANDARD_VERSION: 1996 12
METADATA_DATE: 2001 11 12
DATA_FILE_SIZE: 50161680
BYTE_COUNT: 6480
