FILENAME: 36119F73
QUADRANGLE_NAME: FRESNO SOUTH
QUADRANT: SE
WEST_LONGITUDE: -119 48 45.00000
EAST_LONGITUDE: -119 45 0.00000
NORTH_LATITUDE: 36 41 15.00000
SOUTH_LATITUDE: 36 37 30.00000
PRODUCTION_DATE: 2001 11 08
RASTER_ORDER: LEFT_RIGHT/TOP_BOTTOM
BAND_ORGANIZATION: SINGLE FILE
BAND_CONTENT: BLACK&WHITE
BAND_CONTENT: UNDEFINED
BAND_CONTENT: UNDEFINED
BITS_PER_PIXEL: 8
SAMPLES_AND_LINES: 6510 7740
HORIZONTAL_DATUM: NAD83
HORIZONTAL_COORDINATE_SYSTEM: UTM
COORDINATE_ZONE: 11
HORIZONTAL_UNITS: METERS
HORIZONTAL_RESOLUTION: 1.00000
SECONDARY_HORIZONTAL_DATUM: NAD27
XY_ORIGIN: 248100.00000 4064220.00000
SECONDARY_XY_ORIGIN: 248181.47300 4064020.83900
NATION: US
STATE: CA
NW_QUAD_CORNER_XY: 248705.31700 4063893.24300
NE_QUAD_CORNER_XY: 254290.89400 4063731.12500
SE_QUAD_CORNERY_XY: 254092.01300 4056795.88700
SW_QUAD_CORNER_XY: 248501.90600 4056957.89800
SECONDARY_NW_QUAD_XY: 248699.24000 4063690.97600
SECONDARY_NE_QUAD_XY: 254284.95200 4063528.85400
SECONDARY_SE_QUAD_XY: 254086.07700 4056593.78200
SECONDARY_SW_QUAD_XY: 248495.83400 4056755.79800
RMSE_XY: 1.02000
IMAGE_SOURCE: BLACK AND WHITE FILM
SOURCE_IMAGE_ID: NAPP 10560 119
SOURCE_IMAGE_DATE: 1998 09 12
SOURCE_DEM_DATE: 1981 00 00
AGENCY: WESTERN MAPPING CENTER (WMC)
PRODUCER: SANBORN COLORADO, L.L.C.
PRODUCTION_SYSTEM: ORBIT OR_RECTIFY V.5.2
COMPRESSION: UNDEFINED
STANDARD_VERSION: 1996 12
METADATA_DATE: 2001 11 12
DATA_FILE_SIZE: 50393910
BYTE_COUNT: 6510
