FILENAME: 36119F83
QUADRANGLE_NAME: KEARNEY PARK
QUADRANT: SE
WEST_LONGITUDE: -119 56 15.00000
EAST_LONGITUDE: -119 52 30.00000
NORTH_LATITUDE: 36 41 15.00000
SOUTH_LATITUDE: 36 37 30.00000
PRODUCTION_DATE: 2001 11 08
RASTER_ORDER: LEFT_RIGHT/TOP_BOTTOM
BAND_ORGANIZATION: SINGLE FILE
BAND_CONTENT: BLACK&WHITE
BAND_CONTENT: UNDEFINED
BAND_CONTENT: UNDEFINED
BITS_PER_PIXEL: 8
SAMPLES_AND_LINES: 6510 7740
HORIZONTAL_DATUM: NAD83
HORIZONTAL_COORDINATE_SYSTEM: UTM
COORDINATE_ZONE: 11
HORIZONTAL_UNITS: METERS
HORIZONTAL_RESOLUTION: 1.00000
SECONDARY_HORIZONTAL_DATUM: NAD27
XY_ORIGIN: 236910.00000 4064550.00000
SECONDARY_XY_ORIGIN: 236991.77200 4064350.95700
NATION: US
STATE: CA
NW_QUAD_CORNER_XY: 237533.90200 4064228.43500
NE_QUAD_CORNER_XY: 243119.65300 4064059.01300
SE_QUAD_CORNERY_XY: 242911.71200 4057123.56000
SW_QUAD_CORNER_XY: 237321.42900 4057292.87100
SECONDARY_NW_QUAD_XY: 237527.55500 4064026.17600
SECONDARY_NE_QUAD_XY: 243113.44100 4063856.75000
SECONDARY_SE_QUAD_XY: 242905.50500 4056921.46300
SECONDARY_SW_QUAD_XY: 237315.08700 4057090.77900
RMSE_XY: 0.64000
IMAGE_SOURCE: BLACK AND WHITE FILM
SOURCE_IMAGE_ID: NAPP 10547 35
SOURCE_IMAGE_DATE: 1998 08 17
SOURCE_DEM_DATE: 1981 00 00
AGENCY: WESTERN MAPPING CENTER (WMC)
PRODUCER: SANBORN COLORADO, L.L.C.
PRODUCTION_SYSTEM: ORBIT OR_RECTIFY V.5.2
COMPRESSION: UNDEFINED
STANDARD_VERSION: 1996 12
METADATA_DATE: 2001 11 12
DATA_FILE_SIZE: 50393910
BYTE_COUNT: 6510
