FILENAME: 36119F84
QUADRANGLE_NAME: KEARNEY PARK
QUADRANT: SW
WEST_LONGITUDE: -120 0 0.00000
EAST_LONGITUDE: -119 56 15.00000
NORTH_LATITUDE: 36 41 15.00000
SOUTH_LATITUDE: 36 37 30.00000
PRODUCTION_DATE: 2001 11 08
RASTER_ORDER: LEFT_RIGHT/TOP_BOTTOM
BAND_ORGANIZATION: SINGLE FILE
BAND_CONTENT: BLACK&WHITE
BAND_CONTENT: UNDEFINED
BAND_CONTENT: UNDEFINED
BITS_PER_PIXEL: 8
SAMPLES_AND_LINES: 6510 7770
HORIZONTAL_DATUM: NAD83
HORIZONTAL_COORDINATE_SYSTEM: UTM
COORDINATE_ZONE: 11
HORIZONTAL_UNITS: METERS
HORIZONTAL_RESOLUTION: 1.00000
SECONDARY_HORIZONTAL_DATUM: NAD27
XY_ORIGIN: 231330.00000 4064730.00000
SECONDARY_XY_ORIGIN: 231411.92100 4064531.01500
NATION: US
STATE: CA
NW_QUAD_CORNER_XY: 231948.06100 4064401.51000
NE_QUAD_CORNER_XY: 237533.90200 4064228.43500
SE_QUAD_CORNERY_XY: 237321.42900 4057292.87100
SW_QUAD_CORNER_XY: 231731.05500 4057465.83200
SECONDARY_NW_QUAD_XY: 231941.57900 4064199.25500
SECONDARY_NE_QUAD_XY: 237527.55500 4064026.17600
SECONDARY_SE_QUAD_XY: 237315.08700 4057090.77900
SECONDARY_SW_QUAD_XY: 231724.57800 4057263.74400
RMSE_XY: 0.69000
IMAGE_SOURCE: BLACK AND WHITE FILM
SOURCE_IMAGE_ID: NAPP 10547 24
SOURCE_IMAGE_DATE: 1998 08 17
SOURCE_DEM_DATE: 1981 00 00
AGENCY: WESTERN MAPPING CENTER (WMC)
PRODUCER: SANBORN COLORADO, L.L.C.
PRODUCTION_SYSTEM: ORBIT OR_RECTIFY V.5.2
COMPRESSION: UNDEFINED
STANDARD_VERSION: 1996 12
METADATA_DATE: 2001 11 12
DATA_FILE_SIZE: 50589210
BYTE_COUNT: 6510
