BEGIN_USGS_DOQ_HEADER *
QUADRANGLE_NAME "VERPLANK RIDGE" *
QUADRANT NE *
WEST_LONGITUDE -119 3 45.000 *
EAST_LONGITUDE -119 0 0.000 *
NORTH_LATITUDE 36 52 30.000 *
SOUTH_LATITUDE 36 48 45.000 *
PRODUCTION_DATE 2001 9 17 *
RASTER_ORDER LEFT_RIGHT/TOP_BOTTOM *
BAND_ORGANIZATION "SINGLE FILE" *
BAND_CONTENT BLACK&WHITE *
BITS_PER_PIXEL 8 *
SAMPLES_AND_LINES 6405 7657 *
HORIZONTAL_DATUM NAD83 *
HORIZONTAL_COORDINATE_SYSTEM UTM *
COORDINATE_ZONE 11 *
HORIZONTAL_UNITS METERS *
HORIZONTAL_RESOLUTION 1.0 *
SECONDARY_HORIZONTAL_DATUM NAD27 *
XY_ORIGIN 315641.440 4083291.749 *
SECONDARY_XY_ORIGIN 315721.478 4083093.010 *
NATION US *
STATE CA *
NW_QUAD_CORNER_XY 316175.683 4082991.749 *
NE_QUAD_CORNER_XY 321746.765 4082873.181 *
SE_QUAD_CORNER_XY 321601.562 4075938.839 *
SW_QUAD_CORNER_XY 316025.936 4076057.331 *
SECONDARY_NW_QUAD_XY 316171.220 4082788.944 *
SECONDARY_NE_QUAD_XY 321742.438 4082670.373 *
SECONDARY_SE_QUAD_XY 321597.238 4075736.195 *
SECONDARY_SW_QUAD_XY 316021.477 4075854.690 *
RMSE_XY 1.07 *
IMAGE_SOURCE "BLACK AND WHITE FILM" *
SOURCE_IMAGE_ID "NAPP 10549 210" *
SOURCE_IMAGE_DATE 1998 8 20 *
SOURCE_IMAGE_ID "NAPP 10549 209" *
SOURCE_IMAGE_DATE 1998 8 20 *
SOURCE_IMAGE_ID "NAPP 10549 211" *
SOURCE_IMAGE_DATE 1998 8 20 *
SOURCE_IMAGE_ID "NAPP 10549 188" *
SOURCE_IMAGE_DATE 1998 8 20 *
SOURCE_IMAGE_ID "NAPP 10549 187" *
SOURCE_IMAGE_DATE 1998 8 20 *
SOURCE_IMAGE_ID "NAPP 10549 186" *
SOURCE_IMAGE_DATE 1998 8 20 *
SOURCE_IMAGE_ID "NAPP 10566 76" *
SOURCE_IMAGE_DATE 1999 3 30 *
SOURCE_IMAGE_ID "NAPP 10566 75" *
SOURCE_IMAGE_DATE 1999 3 30 *
SOURCE_IMAGE_ID "NAPP 10566 74" *
SOURCE_IMAGE_DATE 1999 3 30 *
SOURCE_DEM_DATE 2000 0 0 *
AGENCY "WESTERN MAPPING CENTER (WMC)" *
PRODUCER "USDA FS GEOSPATIAL SERVICE AND TECHNOLOGY CENTER" *
PRODUCTION_SYSTEM "ORBIT OR_RECTIFY V.5.2" *
STANDARD_VERSION 1996 12 *
METADATA_DATE 2001 9 17 *
DATA_FILE_SIZE 49049490 *
BYTE_COUNT 6405 * * * * * * * * * * * * * * * * * * * * * *
END_USGS_HEADER *
