BEGIN_USGS_DOQ_HEADER *
QUADRANGLE_NAME "VERPLANK RIDGE" *
QUADRANT NW *
WEST_LONGITUDE -119 7 30.000 *
EAST_LONGITUDE -119 3 45.000 *
NORTH_LATITUDE 36 52 30.000 *
SOUTH_LATITUDE 36 48 45.000 *
PRODUCTION_DATE 2001 9 17 *
RASTER_ORDER LEFT_RIGHT/TOP_BOTTOM *
BAND_ORGANIZATION "SINGLE FILE" *
BAND_CONTENT BLACK&WHITE *
BITS_PER_PIXEL 8 *
SAMPLES_AND_LINES 6410 7661 *
HORIZONTAL_DATUM NAD83 *
HORIZONTAL_COORDINATE_SYSTEM UTM *
COORDINATE_ZONE 11 *
HORIZONTAL_UNITS METERS *
HORIZONTAL_RESOLUTION 1.0 *
SECONDARY_HORIZONTAL_DATUM NAD27 *
XY_ORIGIN 310065.535 4083413.970 *
SECONDARY_XY_ORIGIN 310145.658 4083215.122 *
NATION US *
STATE CA *
NW_QUAD_CORNER_XY 310604.538 4083113.970 *
NE_QUAD_CORNER_XY 316175.683 4082991.749 *
SE_QUAD_CORNER_XY 316025.936 4076057.331 *
SW_QUAD_CORNER_XY 310450.248 4076179.473 *
SECONDARY_NW_QUAD_XY 310599.940 4082911.168 *
SECONDARY_NE_QUAD_XY 316171.220 4082788.944 *
SECONDARY_SE_QUAD_XY 316021.477 4075854.690 *
SECONDARY_SW_QUAD_XY 310445.654 4075976.835 *
RMSE_XY 1.07 *
IMAGE_SOURCE "BLACK AND WHITE FILM" *
SOURCE_IMAGE_ID "NAPP 10549 187" *
SOURCE_IMAGE_DATE 1998 8 20 *
SOURCE_IMAGE_ID "NAPP 10549 188" *
SOURCE_IMAGE_DATE 1998 8 20 *
SOURCE_IMAGE_ID "NAPP 10549 186" *
SOURCE_IMAGE_DATE 1998 8 20 *
SOURCE_IMAGE_ID "NAPP 10547 270" *
SOURCE_IMAGE_DATE 1998 8 17 *
SOURCE_IMAGE_ID "NAPP 10547 271" *
SOURCE_IMAGE_DATE 1998 8 17 *
SOURCE_IMAGE_ID "NAPP 10547 272" *
SOURCE_IMAGE_DATE 1998 8 17 *
SOURCE_IMAGE_ID "NAPP 10549 209" *
SOURCE_IMAGE_DATE 1998 8 20 *
SOURCE_IMAGE_ID "NAPP 10549 210" *
SOURCE_IMAGE_DATE 1998 8 20 *
SOURCE_IMAGE_ID "NAPP 10549 211" *
SOURCE_IMAGE_DATE 1998 8 20 *
SOURCE_DEM_DATE 2000 0 0 *
AGENCY "WESTERN MAPPING CENTER (WMC)" *
PRODUCER "USDA FS GEOSPATIAL SERVICE AND TECHNOLOGY CENTER" *
PRODUCTION_SYSTEM "ORBIT OR_RECTIFY V.5.2" *
STANDARD_VERSION 1996 12 *
METADATA_DATE 2001 9 17 *
DATA_FILE_SIZE 49113420 *
BYTE_COUNT 6410 * * * * * * * * * * * * * * * * * * * * * *
END_USGS_HEADER *
