BEGIN_USGS_DOQ_HEADER *
QUADRANGLE_NAME "LUCKETT MOUNTAIN" *
QUADRANT NW *
WEST_LONGITUDE -119 15 0.000 *
EAST_LONGITUDE -119 11 15.000 *
NORTH_LATITUDE 36 52 30.000 *
SOUTH_LATITUDE 36 48 45.000 *
PRODUCTION_DATE 2001 9 17 *
RASTER_ORDER LEFT_RIGHT/TOP_BOTTOM *
BAND_ORGANIZATION "SINGLE FILE" *
BAND_CONTENT BLACK&WHITE *
BITS_PER_PIXEL 8 *
SAMPLES_AND_LINES 6420 7668 *
HORIZONTAL_DATUM NAD83 *
HORIZONTAL_COORDINATE_SYSTEM UTM *
COORDINATE_ZONE 11 *
HORIZONTAL_UNITS METERS *
HORIZONTAL_RESOLUTION 1.0 *
SECONDARY_HORIZONTAL_DATUM NAD27 *
XY_ORIGIN 298913.531 4083669.371 *
SECONDARY_XY_ORIGIN 298993.828 4083470.304 *
NATION US *
STATE CA *
NW_QUAD_CORNER_XY 299462.057 4083369.371 *
NE_QUAD_CORNER_XY 305033.330 4083239.844 *
SE_QUAD_CORNER_XY 304874.496 4076305.266 *
SW_QUAD_CORNER_XY 299298.678 4076434.711 *
SECONDARY_NW_QUAD_XY 299457.189 4083166.575 *
SECONDARY_NE_QUAD_XY 305028.597 4083037.045 *
SECONDARY_SE_QUAD_XY 304869.766 4076102.632 *
SECONDARY_SW_QUAD_XY 299293.813 4076232.079 *
RMSE_XY 1.07 *
IMAGE_SOURCE "BLACK AND WHITE FILM" *
SOURCE_IMAGE_ID "NAPP 10547 248" *
SOURCE_IMAGE_DATE 1998 8 17 *
SOURCE_IMAGE_ID "NAPP 10547 249" *
SOURCE_IMAGE_DATE 1998 8 17 *
SOURCE_IMAGE_ID "NAPP 10547 247" *
SOURCE_IMAGE_DATE 1998 8 17 *
SOURCE_IMAGE_ID "NAPP 10547 236" *
SOURCE_IMAGE_DATE 1998 8 17 *
SOURCE_IMAGE_ID "NAPP 10547 237" *
SOURCE_IMAGE_DATE 1998 8 17 *
SOURCE_IMAGE_ID "NAPP 10547 238" *
SOURCE_IMAGE_DATE 1998 8 17 *
SOURCE_IMAGE_ID "NAPP 10547 270" *
SOURCE_IMAGE_DATE 1998 8 17 *
SOURCE_IMAGE_ID "NAPP 10547 271" *
SOURCE_IMAGE_DATE 1998 8 17 *
SOURCE_IMAGE_ID "NAPP 10547 272" *
SOURCE_IMAGE_DATE 1998 8 17 *
SOURCE_DEM_DATE 2000 0 0 *
AGENCY "WESTERN MAPPING CENTER (WMC)" *
PRODUCER "USDA FS GEOSPATIAL SERVICE AND TECHNOLOGY CENTER" *
PRODUCTION_SYSTEM "ORBIT OR_RECTIFY V.5.2" *
STANDARD_VERSION 1996 12 *
METADATA_DATE 2001 9 17 *
DATA_FILE_SIZE 49234980 *
BYTE_COUNT 6420 * * * * * * * * * * * * * * * * * * * * * *
END_USGS_HEADER *
