BEGIN_USGS_DOQ_HEADER *
QUADRANGLE_NAME "LUCKETT MOUNTAIN" *
QUADRANT SE *
WEST_LONGITUDE -119 11 15.000 *
EAST_LONGITUDE -119 7 30.000 *
NORTH_LATITUDE 36 48 45.000 *
SOUTH_LATITUDE 36 45 0.000 *
PRODUCTION_DATE 2001 9 17 *
RASTER_ORDER LEFT_RIGHT/TOP_BOTTOM *
BAND_ORGANIZATION "SINGLE FILE" *
BAND_CONTENT BLACK&WHITE *
BITS_PER_PIXEL 8 *
SAMPLES_AND_LINES 6419 7664 *
HORIZONTAL_DATUM NAD83 *
HORIZONTAL_COORDINATE_SYSTEM UTM *
COORDINATE_ZONE 11 *
HORIZONTAL_UNITS METERS *
HORIZONTAL_RESOLUTION 1.0 *
SECONDARY_HORIZONTAL_DATUM NAD27 *
XY_ORIGIN 304330.969 4076605.266 *
SECONDARY_XY_ORIGIN 304411.176 4076406.463 *
NATION US *
STATE CA *
NW_QUAD_CORNER_XY 304874.496 4076305.266 *
NE_QUAD_CORNER_XY 310450.248 4076179.473 *
SE_QUAD_CORNER_XY 310296.184 4069245.039 *
SW_QUAD_CORNER_XY 304715.894 4069370.751 *
SECONDARY_NW_QUAD_XY 304869.766 4076102.632 *
SECONDARY_NE_QUAD_XY 310445.654 4075976.835 *
SECONDARY_SE_QUAD_XY 310291.593 4069042.567 *
SECONDARY_SW_QUAD_XY 304711.168 4069168.282 *
RMSE_XY 1.07 *
IMAGE_SOURCE "BLACK AND WHITE FILM" *
SOURCE_IMAGE_ID "NAPP 10547 269" *
SOURCE_IMAGE_DATE 1998 8 17 *
SOURCE_IMAGE_ID "NAPP 10547 268" *
SOURCE_IMAGE_DATE 1998 8 17 *
SOURCE_IMAGE_ID "NAPP 10547 270" *
SOURCE_IMAGE_DATE 1998 8 17 *
SOURCE_IMAGE_ID "NAPP 10547 251" *
SOURCE_IMAGE_DATE 1998 8 17 *
SOURCE_IMAGE_ID "NAPP 10547 250" *
SOURCE_IMAGE_DATE 1998 8 17 *
SOURCE_IMAGE_ID "NAPP 10547 249" *
SOURCE_IMAGE_DATE 1998 8 17 *
SOURCE_IMAGE_ID "NAPP 10549 190" *
SOURCE_IMAGE_DATE 1998 8 20 *
SOURCE_IMAGE_ID "NAPP 10549 189" *
SOURCE_IMAGE_DATE 1998 8 20 *
SOURCE_IMAGE_ID "NAPP 10549 188" *
SOURCE_IMAGE_DATE 1998 8 20 *
SOURCE_DEM_DATE 2000 0 0 *
AGENCY "WESTERN MAPPING CENTER (WMC)" *
PRODUCER "USDA FS GEOSPATIAL SERVICE AND TECHNOLOGY CENTER" *
PRODUCTION_SYSTEM "ORBIT OR_RECTIFY V.5.2" *
STANDARD_VERSION 1996 12 *
METADATA_DATE 2001 9 17 *
DATA_FILE_SIZE 49201635 *
BYTE_COUNT 6419 * * * * * * * * * * * * * * * * * * * * * *
END_USGS_HEADER *
