BEGIN_USGS_DOQ_HEADER *
QUADRANGLE_NAME "PINE FLAT DAM" 3.45 or 7.5-min. name*
QUADRANT NE quadrant indicator if cell size = 3.75-minutes*
WEST_LONGITUDE -119 18 45.000 signed deg min sec SDDD MM SS.SSS*
EAST_LONGITUDE -119 15 0.000 signed deg min sec SDDD MM SS.SSS*
NORTH_LATITUDE 36 52 30.000 signed deg min sec SDDD MM SS.SSS*
SOUTH_LATITUDE 36 48 45.000 signed deg min sec SDDD MM SS.SSS*
PRODUCTION_DATE 1996 12 18 yyyy mm dd*
RASTER_ORDER LEFT_RIGHT/TOP_BOTTOM video display order*
BAND_ORGANIZATION "SINGLE FILE" single file or BSQ, or BIL or BIP*
BAND_CONTENT BLACK&WHITE black&white or red green blue*
BITS_PER_PIXEL 8 radiometric resolution*
SAMPLES_AND_LINES 6428 7675 number of columns and rows*
HORIZONTAL_DATUM NAD83 primary horizontal datum*
HORIZONTAL_COORDINATE_SYSTEM UTM *
COORDINATE_ZONE 11 coordinate system zone number*
HORIZONTAL_UNITS METERS coordinate system units*
HORIZONTAL_RESOLUTION 1.00 pixel horiz. ground sample distance*
SECONDARY_HORIZONTAL_DATUM NAD27 secondary horizontal datum*
XY_ORIGIN 293336.000 4083803.000 coord. of upper left pixel pri. datum*
SECONDARY_XY_ORIGIN 293416.411 4083603.814 coord upper left pixel sec datum*
NATION US nation code*
STATE CA state fip code*
NW_QUAD_CORNER_XY 293890.717 4083502.552 XY coords. of pri. NW quad corner*
NE_QUAD_CORNER_XY 299462.057 4083369.371 XY coords. of pri. NE quad corner*
SE_QUAD_CORNER_XY 299298.678 4076434.711 XY coords. of pri. SE quad corner*
SW_QUAD_CORNER_XY 293722.792 4076567.807 XY coords. of pri. SW quad corner*
SECONDARY_NW_QUAD_XY 293885.709 4083299.761 XY coords. - sec. NW quad cor.*
SECONDARY_NE_QUAD_XY 299457.185 4083166.576 XY coords. - sec. NE quad cor.*
SECONDARY_SE_QUAD_XY 299293.810 4076232.080 XY coords. - sec. SE quad cor.*
SECONDARY_SW_QUAD_XY 293717.788 4076365.180 XY coords. - sec. SW quad cor.*
RMSE_XY 3.10 doq horiz. accuracy*
IMAGE_SOURCE "BLACK AND WHITE FILM" b&w, cir, natural color, other*
SOURCE_IMAGE_ID "NAPP 6296 177" source image id*
SOURCE_IMAGE_DATE 1993 5 29 source image date as yyyy mm dd*
SOURCE_DEM_DATE 1996 12 18 source dem date yyyy mm dd*
AGENCY "WESTERN MAPPING CENTER (WMC)" oversight agency*
PRODUCER "Science Applications International" producer/contractor*
PRODUCTION_SYSTEM "GIS/MAGIC" production system*
STANDARD_VERSION 1996 12 version of DOQ standard*
METADATA_DATE 1997 10 27 date created or changed, yyyy mm dd*
DATA_FILE_SIZE 49341328 data set size in bytes*
BYTE_COUNT 6428 header byte count* * * * * * * * * * * * * * * * * * * * * * * * * * * * * * * * * * * * * *
END_USGS_HEADER *
