BEGIN_USGS_DOQ_HEADER *
QUADRANGLE_NAME "PINE FLAT DAM" 3.45 or 7.5-min. name*
QUADRANT SE quadrant indicator if cell size = 3.75-minutes*
WEST_LONGITUDE -119 18 45.000 signed deg min sec SDDD MM SS.SSS*
EAST_LONGITUDE -119 15 0.000 signed deg min sec SDDD MM SS.SSS*
NORTH_LATITUDE 36 48 45.000 signed deg min sec SDDD MM SS.SSS*
SOUTH_LATITUDE 36 45 0.000 signed deg min sec SDDD MM SS.SSS*
PRODUCTION_DATE 1998 4 15 yyyy mm dd*
RASTER_ORDER LEFT_RIGHT/TOP_BOTTOM video display order*
BAND_ORGANIZATION "SINGLE FILE" single file or BSQ, or BIL or BIP*
BAND_CONTENT BLACK&WHITE black&white or red green blue*
BITS_PER_PIXEL 8 radiometric resolution*
SAMPLES_AND_LINES 6432 7674 number of columns and rows*
HORIZONTAL_DATUM NAD83 primary horizontal datum*
HORIZONTAL_COORDINATE_SYSTEM UTM *
COORDINATE_ZONE 11 coordinate system zone number*
HORIZONTAL_UNITS METERS coordinate system units*
HORIZONTAL_RESOLUTION 1.00 pixel horiz. ground sample distance*
SECONDARY_HORIZONTAL_DATUM NAD27 secondary horizontal datum*
XY_ORIGIN 293168.000 4076868.000 coord. of upper left pixel pri. datum*
SECONDARY_XY_ORIGIN 293248.404 4076668.975 coord upper left pixel sec datum*
NATION US nation code*
STATE CA state fip code*
NW_QUAD_CORNER_XY 293722.792 4076567.807 XY coords. of pri. NW quad corner*
NE_QUAD_CORNER_XY 299298.678 4076434.711 XY coords. of pri. NE quad corner*
SE_QUAD_CORNER_XY 299135.538 4069500.112 XY coords. of pri. SE quad corner*
SW_QUAD_CORNER_XY 293555.113 4069633.122 XY coords. of pri. SW quad corner*
SECONDARY_NW_QUAD_XY 293717.788 4076365.180 XY coords. - sec. NW quad cor.*
SECONDARY_NE_QUAD_XY 299293.810 4076232.080 XY coords. - sec. NE quad cor.*
SECONDARY_SE_QUAD_XY 299130.674 4069297.647 XY coords. - sec. SE quad cor.*
SECONDARY_SW_QUAD_XY 293550.114 4069430.660 XY coords. - sec. SW quad cor.*
RMSE_XY 2.40 doq horiz. accuracy*
IMAGE_SOURCE "BLACK AND WHITE FILM" b&w, cir, natural color, other*
SOURCE_IMAGE_ID "NAPP 6296 179" source image id*
SOURCE_IMAGE_DATE 1993 05 29 source image date as yyyy mm dd*
IMAGE_SOURCE "BLACK AND WHITE FILM" b&w, cir, natural color, other*
SOURCE_IMAGE_ID "NAPP 6296 164" source image id*
SOURCE_IMAGE_DATE 1993 05 29 source image date as yyyy mm dd*
SOURCE_DEM_DATE 1997 01 01 source dem date yyyy mm dd*
AGENCY "WESTERN MAPPING CENTER (WMC)" oversight agency*
PRODUCER "SCIENCE APPLICATIONS INTERNATIONAL" producer/contractor*
PRODUCTION_SYSTEM "GIS/MAGIC" production system*
STANDARD_VERSION 1996 12 version of DOQ standard*
METADATA_DATE 1998 05 21 date created or changed, yyyy mm dd*
DATA_FILE_SIZE 49365600 data set size in bytes*
BYTE_COUNT 6432 header byte count* * * * * * * * * * * * * * * * * * * * * * * * * * * * * * * * * * *
END_USGS_HEADER *
