BEGIN_USGS_DOQ_HEADER *
QUADRANGLE_NAME "PINE FLAT DAM" *
QUADRANT SE *
WEST_LONGITUDE -119 18 45.000 *
EAST_LONGITUDE -119 15 0.000 *
NORTH_LATITUDE 36 48 45.000 *
SOUTH_LATITUDE 36 45 0.000 *
PRODUCTION_DATE 2001 9 17 *
RASTER_ORDER LEFT_RIGHT/TOP_BOTTOM *
BAND_ORGANIZATION "SINGLE FILE" *
BAND_CONTENT BLACK&WHITE *
BITS_PER_PIXEL 8 *
SAMPLES_AND_LINES 6429 7671 *
HORIZONTAL_DATUM NAD83 *
HORIZONTAL_COORDINATE_SYSTEM UTM *
COORDINATE_ZONE 11 *
HORIZONTAL_UNITS METERS *
HORIZONTAL_RESOLUTION 1.0 *
SECONDARY_HORIZONTAL_DATUM NAD27 *
XY_ORIGIN 293169.726 4076867.807 *
SECONDARY_XY_ORIGIN 293250.135 4076668.781 *
NATION US *
STATE CA *
NW_QUAD_CORNER_XY 293722.792 4076567.807 *
NE_QUAD_CORNER_XY 299298.678 4076434.711 *
SE_QUAD_CORNER_XY 299135.538 4069500.112 *
SW_QUAD_CORNER_XY 293555.113 4069633.123 *
SECONDARY_NW_QUAD_XY 293717.792 4076365.179 *
SECONDARY_NE_QUAD_XY 299293.813 4076232.079 *
SECONDARY_SE_QUAD_XY 299130.677 4069297.646 *
SECONDARY_SW_QUAD_XY 293550.117 4069430.660 *
RMSE_XY 1.07 *
IMAGE_SOURCE "BLACK AND WHITE FILM" *
SOURCE_IMAGE_ID "NAPP 10547 235" *
SOURCE_IMAGE_DATE 1998 8 17 *
SOURCE_IMAGE_ID "NAPP 10547 234" *
SOURCE_IMAGE_DATE 1998 8 17 *
SOURCE_IMAGE_ID "NAPP 10547 236" *
SOURCE_IMAGE_DATE 1998 8 17 *
SOURCE_IMAGE_ID "NAPP 10547 204" *
SOURCE_IMAGE_DATE 1998 8 17 *
SOURCE_IMAGE_ID "NAPP 10547 205" *
SOURCE_IMAGE_DATE 1998 8 17 *
SOURCE_IMAGE_ID "NAPP 10547 206" *
SOURCE_IMAGE_DATE 1998 8 17 *
SOURCE_IMAGE_ID "NAPP 10547 251" *
SOURCE_IMAGE_DATE 1998 8 17 *
SOURCE_IMAGE_ID "NAPP 10547 250" *
SOURCE_IMAGE_DATE 1998 8 17 *
SOURCE_IMAGE_ID "NAPP 10547 249" *
SOURCE_IMAGE_DATE 1998 8 17 *
SOURCE_DEM_DATE 2000 0 0 *
AGENCY "WESTERN MAPPING CENTER (WMC)" *
PRODUCER "USDA FS GEOSPATIAL SERVICE AND TECHNOLOGY CENTER" *
PRODUCTION_SYSTEM "ORBIT OR_RECTIFY V.5.2" *
STANDARD_VERSION 1996 12 *
METADATA_DATE 2001 9 17 *
DATA_FILE_SIZE 49323288 *
BYTE_COUNT 6429 * * * * * * * * * * * * * * * * * * * * * *
END_USGS_HEADER *
