BEGIN_USGS_DOQ_HEADER *
QUADRANGLE_NAME "PINE FLAT DAM" *
QUADRANT SW *
WEST_LONGITUDE -119 22 30.000 *
EAST_LONGITUDE -119 18 45.000 *
NORTH_LATITUDE 36 48 45.000 *
SOUTH_LATITUDE 36 45 0.000 *
PRODUCTION_DATE 2001 9 17 *
RASTER_ORDER LEFT_RIGHT/TOP_BOTTOM *
BAND_ORGANIZATION "SINGLE FILE" *
BAND_CONTENT BLACK&WHITE *
BITS_PER_PIXEL 8 *
SAMPLES_AND_LINES 6434 7675 *
HORIZONTAL_DATUM NAD83 *
HORIZONTAL_COORDINATE_SYSTEM UTM *
COORDINATE_ZONE 11 *
HORIZONTAL_UNITS METERS *
HORIZONTAL_RESOLUTION 1.0 *
SECONDARY_HORIZONTAL_DATUM NAD27 *
XY_ORIGIN 287588.982 4077004.556 *
SECONDARY_XY_ORIGIN 287669.507 4076805.410 *
NATION US *
STATE CA *
NW_QUAD_CORNER_XY 288146.836 4076704.556 *
NE_QUAD_CORNER_XY 293722.792 4076567.807 *
SE_QUAD_CORNER_XY 293555.113 4069633.123 *
SW_QUAD_CORNER_XY 287974.619 4069769.783 *
SECONDARY_NW_QUAD_XY 288141.701 4076501.931 *
SECONDARY_NE_QUAD_XY 293717.792 4076365.179 *
SECONDARY_SE_QUAD_XY 293550.117 4069430.660 *
SECONDARY_SW_QUAD_XY 287969.487 4069567.323 *
RMSE_XY 1.07 *
IMAGE_SOURCE "BLACK AND WHITE FILM" *
SOURCE_IMAGE_ID "NAPP 10547 205" *
SOURCE_IMAGE_DATE 1998 8 17 *
SOURCE_IMAGE_ID "NAPP 10547 204" *
SOURCE_IMAGE_DATE 1998 8 17 *
SOURCE_IMAGE_ID "NAPP 10547 206" *
SOURCE_IMAGE_DATE 1998 8 17 *
SOURCE_IMAGE_ID "NAPP 10547 234" *
SOURCE_IMAGE_DATE 1998 8 17 *
SOURCE_IMAGE_ID "NAPP 10547 235" *
SOURCE_IMAGE_DATE 1998 8 17 *
SOURCE_IMAGE_ID "NAPP 10547 236" *
SOURCE_IMAGE_DATE 1998 8 17 *
SOURCE_DEM_DATE 2000 0 0 *
AGENCY "WESTERN MAPPING CENTER (WMC)" *
PRODUCER "USDA FS GEOSPATIAL SERVICE AND TECHNOLOGY CENTER" *
PRODUCTION_SYSTEM "ORBIT OR_RECTIFY V.5.2" *
STANDARD_VERSION 1996 12 *
METADATA_DATE 2001 9 17 *
DATA_FILE_SIZE 49387384 *
BYTE_COUNT 6434 * * * * * * * * * * * * * * * * * * * * * * * * * * * *
END_USGS_HEADER *
