FILENAME: 36119G41
QUADRANGLE_NAME: PIEDRA
QUADRANT: NW
WEST_LONGITUDE: -119 30 0.00000
EAST_LONGITUDE: -119 26 15.00000
NORTH_LATITUDE: 36 52 30.00000
SOUTH_LATITUDE: 36 48 45.00000
PRODUCTION_DATE: 2002 02 13
RASTER_ORDER: LEFT_RIGHT/TOP_BOTTOM
BAND_ORGANIZATION: SINGLE FILE
BAND_CONTENT: BLACK&WHITE
BAND_CONTENT: UNDEFINED
BAND_CONTENT: UNDEFINED
BITS_PER_PIXEL: 8
SAMPLES_AND_LINES: 6450 7710
HORIZONTAL_DATUM: NAD83
HORIZONTAL_COORDINATE_SYSTEM: UTM
COORDINATE_ZONE: 11
HORIZONTAL_UNITS: METERS
HORIZONTAL_RESOLUTION: 1.00000
SECONDARY_HORIZONTAL_DATUM: NAD27
XY_ORIGIN: 276600.00000 4084230.00000
SECONDARY_XY_ORIGIN: 276680.76600 4084030.45600
NATION: US
STATE: CA
NW_QUAD_CORNER_XY: 277176.27200 4083924.02700
NE_QUAD_CORNER_XY: 282747.82600 4083779.88000
SE_QUAD_CORNERY_XY: 282570.80900 4076844.95700
SW_QUAD_CORNER_XY: 276994.70800 4076989.01200
SECONDARY_NW_QUAD_XY: 277170.85800 4083721.24500
SECONDARY_NE_QUAD_XY: 282742.54800 4083577.09500
SECONDARY_SE_QUAD_XY: 282565.53500 4076642.33600
SECONDARY_SW_QUAD_XY: 276989.29900 4076786.39400
RMSE_XY: 1.43000
IMAGE_SOURCE: BLACK AND WHITE FILM
SOURCE_IMAGE_ID: NAPP 10547 278
SOURCE_IMAGE_DATE: 1998 08 17
SOURCE_IMAGE_ID: NAPP 10547 276
SOURCE_IMAGE_DATE: 1998 08 17
SOURCE_DEM_DATE: 1965 00 00
AGENCY: WESTERN MAPPING CENTER (WMC)
PRODUCER: SANBORN COLORADO, L.L.C.
PRODUCTION_SYSTEM: ORBIT OR_RECTIFY V.5.2
COMPRESSION: UNDEFINED
STANDARD_VERSION: 1996 12
METADATA_DATE: 2002 02 28
DATA_FILE_SIZE: 49735950
BYTE_COUNT: 6450
