FILENAME: 36119G43
QUADRANGLE_NAME: PIEDRA
QUADRANT: SE
WEST_LONGITUDE: -119 26 15.00000
EAST_LONGITUDE: -119 22 30.00000
NORTH_LATITUDE: 36 48 45.00000
SOUTH_LATITUDE: 36 45 0.00000
PRODUCTION_DATE: 2002 02 13
RASTER_ORDER: LEFT_RIGHT/TOP_BOTTOM
BAND_ORGANIZATION: SINGLE FILE
BAND_CONTENT: BLACK&WHITE
BAND_CONTENT: UNDEFINED
BAND_CONTENT: UNDEFINED
BITS_PER_PIXEL: 8
SAMPLES_AND_LINES: 6450 7710
HORIZONTAL_DATUM: NAD83
HORIZONTAL_COORDINATE_SYSTEM: UTM
COORDINATE_ZONE: 11
HORIZONTAL_UNITS: METERS
HORIZONTAL_RESOLUTION: 1.00000
SECONDARY_HORIZONTAL_DATUM: NAD27
XY_ORIGIN: 282000.00000 4077150.00000
SECONDARY_XY_ORIGIN: 282080.63700 4076950.73500
NATION: US
STATE: CA
NW_QUAD_CORNER_XY: 282570.80900 4076844.95700
NE_QUAD_CORNER_XY: 288146.83600 4076704.55600
SE_QUAD_CORNERY_XY: 287974.61900 4069769.78300
SW_QUAD_CORNER_XY: 282394.05100 4069910.09400
SECONDARY_NW_QUAD_XY: 282565.53500 4076642.33600
SECONDARY_NE_QUAD_XY: 288141.69700 4076501.93200
SECONDARY_SE_QUAD_XY: 287969.48400 4069567.32400
SECONDARY_SW_QUAD_XY: 282388.78100 4069707.63900
RMSE_XY: 1.04000
IMAGE_SOURCE: BLACK AND WHITE FILM
SOURCE_IMAGE_ID: NAPP 10547 216
SOURCE_IMAGE_DATE: 1998 08 17
SOURCE_DEM_DATE: 1965 00 00
AGENCY: WESTERN MAPPING CENTER (WMC)
PRODUCER: SANBORN COLORADO, L.L.C.
PRODUCTION_SYSTEM: ORBIT OR_RECTIFY V.5.2
COMPRESSION: UNDEFINED
STANDARD_VERSION: 1996 12
METADATA_DATE: 2002 02 13
DATA_FILE_SIZE: 49735950
BYTE_COUNT: 6450
