FILENAME: 36119G52
QUADRANGLE_NAME: ROUND MOUNTAIN
QUADRANT: NE
WEST_LONGITUDE: -119 33 45.00000
EAST_LONGITUDE: -119 30 0.00000
NORTH_LATITUDE: 36 52 30.00000
SOUTH_LATITUDE: 36 48 45.00000
PRODUCTION_DATE: 2002 02 13
RASTER_ORDER: LEFT_RIGHT/TOP_BOTTOM
BAND_ORGANIZATION: SINGLE FILE
BAND_CONTENT: BLACK&WHITE
BAND_CONTENT: UNDEFINED
BAND_CONTENT: UNDEFINED
BITS_PER_PIXEL: 8
SAMPLES_AND_LINES: 6480 7710
HORIZONTAL_DATUM: NAD83
HORIZONTAL_COORDINATE_SYSTEM: UTM
COORDINATE_ZONE: 11
HORIZONTAL_UNITS: METERS
HORIZONTAL_RESOLUTION: 1.00000
SECONDARY_HORIZONTAL_DATUM: NAD27
XY_ORIGIN: 271020.00000 4084380.00000
SECONDARY_XY_ORIGIN: 271100.94200 4084180.42200
NATION: US
STATE: CA
NW_QUAD_CORNER_XY: 271604.64400 4084071.83000
NE_QUAD_CORNER_XY: 277176.27200 4083924.02700
SE_QUAD_CORNERY_XY: 276994.70800 4076989.01200
SW_QUAD_CORNER_XY: 271418.53200 4077136.72000
SECONDARY_NW_QUAD_XY: 271599.09400 4083869.05200
SECONDARY_NE_QUAD_XY: 277170.85800 4083721.24500
SECONDARY_SE_QUAD_XY: 276989.29900 4076786.39400
SECONDARY_SW_QUAD_XY: 271412.98700 4076934.10600
RMSE_XY: 1.28000
IMAGE_SOURCE: BLACK AND WHITE FILM
SOURCE_IMAGE_ID: NAPP 10547 184
SOURCE_IMAGE_DATE: 1998 08 17
SOURCE_DEM_DATE: 1964 00 00
AGENCY: WESTERN MAPPING CENTER (WMC)
PRODUCER: SANBORN COLORADO, L.L.C.
PRODUCTION_SYSTEM: ORBIT OR_RECTIFY V.5.2
COMPRESSION: UNDEFINED
STANDARD_VERSION: 1996 12
METADATA_DATE: 2002 02 28
DATA_FILE_SIZE: 49967280
BYTE_COUNT: 6480
