FILENAME: 36119G51
QUADRANGLE_NAME: ROUND MOUNTAIN
QUADRANT: NW
WEST_LONGITUDE: -119 37 30.00000
EAST_LONGITUDE: -119 33 45.00000
NORTH_LATITUDE: 36 52 30.00000
SOUTH_LATITUDE: 36 48 45.00000
PRODUCTION_DATE: 2002 02 13
RASTER_ORDER: LEFT_RIGHT/TOP_BOTTOM
BAND_ORGANIZATION: SINGLE FILE
BAND_CONTENT: BLACK&WHITE
BAND_CONTENT: UNDEFINED
BAND_CONTENT: UNDEFINED
BITS_PER_PIXEL: 8
SAMPLES_AND_LINES: 6480 7710
HORIZONTAL_DATUM: NAD83
HORIZONTAL_COORDINATE_SYSTEM: UTM
COORDINATE_ZONE: 11
HORIZONTAL_UNITS: METERS
HORIZONTAL_RESOLUTION: 1.00000
SECONDARY_HORIZONTAL_DATUM: NAD27
XY_ORIGIN: 265440.00000 4084530.00000
SECONDARY_XY_ORIGIN: 265521.11400 4084330.38000
NATION: US
STATE: CA
NW_QUAD_CORNER_XY: 266032.93900 4084223.28900
NE_QUAD_CORNER_XY: 271604.64400 4084071.83000
SE_QUAD_CORNERY_XY: 271418.53200 4077136.72000
SW_QUAD_CORNER_XY: 265842.27900 4077288.08200
SECONDARY_NW_QUAD_XY: 266027.25400 4084020.51500
SECONDARY_NE_QUAD_XY: 271599.09400 4083869.05200
SECONDARY_SE_QUAD_XY: 271412.98700 4076934.10600
SECONDARY_SW_QUAD_XY: 265836.59800 4077085.47200
RMSE_XY: 0.85000
IMAGE_SOURCE: BLACK AND WHITE FILM
SOURCE_IMAGE_ID: NAPP 10547 301
SOURCE_IMAGE_DATE: 1998 08 17
SOURCE_DEM_DATE: 1964 00 00
AGENCY: WESTERN MAPPING CENTER (WMC)
PRODUCER: SANBORN COLORADO, L.L.C.
PRODUCTION_SYSTEM: ORBIT OR_RECTIFY V.5.2
COMPRESSION: UNDEFINED
STANDARD_VERSION: 1996 12
METADATA_DATE: 2002 02 28
DATA_FILE_SIZE: 49967280
BYTE_COUNT: 6480
