FILENAME: 36119G61
QUADRANGLE_NAME: CLOVIS
QUADRANT: NW
WEST_LONGITUDE: -119 45 0.00000
EAST_LONGITUDE: -119 41 15.00000
NORTH_LATITUDE: 36 52 30.00000
SOUTH_LATITUDE: 36 48 45.00000
PRODUCTION_DATE: 2001 11 08
RASTER_ORDER: LEFT_RIGHT/TOP_BOTTOM
BAND_ORGANIZATION: SINGLE FILE
BAND_CONTENT: BLACK&WHITE
BAND_CONTENT: UNDEFINED
BAND_CONTENT: UNDEFINED
BITS_PER_PIXEL: 8
SAMPLES_AND_LINES: 6510 7740
HORIZONTAL_DATUM: NAD83
HORIZONTAL_COORDINATE_SYSTEM: UTM
COORDINATE_ZONE: 11
HORIZONTAL_UNITS: METERS
HORIZONTAL_RESOLUTION: 1.00000
SECONDARY_HORIZONTAL_DATUM: NAD27
XY_ORIGIN: 254280.00000 4084860.00000
SECONDARY_XY_ORIGIN: 254361.45800 4084660.29600
NATION: US
STATE: CA
NW_QUAD_CORNER_XY: 254889.29100 4084537.17900
NE_QUAD_CORNER_XY: 260461.15500 4084378.40500
SE_QUAD_CORNERY_XY: 260265.94600 4077443.09900
SW_QUAD_CORNER_XY: 254689.53300 4077601.77100
SECONDARY_NW_QUAD_XY: 254883.33600 4084334.41200
SECONDARY_NE_QUAD_XY: 260455.33500 4084175.63500
SECONDARY_SE_QUAD_XY: 260260.13100 4077240.49300
SECONDARY_SW_QUAD_XY: 254683.58200 4077399.16900
RMSE_XY: 0.63000
IMAGE_SOURCE: BLACK AND WHITE FILM
SOURCE_IMAGE_ID: NAPP 10547 130
SOURCE_IMAGE_DATE: 1998 08 17
SOURCE_DEM_DATE: 1981 00 00
AGENCY: WESTERN MAPPING CENTER (WMC)
PRODUCER: SANBORN COLORADO, L.L.C.
PRODUCTION_SYSTEM: ORBIT OR_RECTIFY V.5.2
COMPRESSION: UNDEFINED
STANDARD_VERSION: 1996 12
METADATA_DATE: 2001 11 09
DATA_FILE_SIZE: 50393910
BYTE_COUNT: 6510
