FILENAME: 36119G63
QUADRANGLE_NAME: CLOVIS
QUADRANT: SE
WEST_LONGITUDE: -119 41 15.00000
EAST_LONGITUDE: -119 37 30.00000
NORTH_LATITUDE: 36 48 45.00000
SOUTH_LATITUDE: 36 45 0.00000
PRODUCTION_DATE: 2001 11 08
RASTER_ORDER: LEFT_RIGHT/TOP_BOTTOM
BAND_ORGANIZATION: SINGLE FILE
BAND_CONTENT: BLACK&WHITE
BAND_CONTENT: UNDEFINED
BAND_CONTENT: UNDEFINED
BITS_PER_PIXEL: 8
SAMPLES_AND_LINES: 6480 7710
HORIZONTAL_DATUM: NAD83
HORIZONTAL_COORDINATE_SYSTEM: UTM
COORDINATE_ZONE: 11
HORIZONTAL_UNITS: METERS
HORIZONTAL_RESOLUTION: 1.00000
SECONDARY_HORIZONTAL_DATUM: NAD27
XY_ORIGIN: 259680.00000 4077750.00000
SECONDARY_XY_ORIGIN: 259761.26000 4077550.49600
NATION: US
STATE: CA
NW_QUAD_CORNER_XY: 260265.94600 4077443.09900
NE_QUAD_CORNER_XY: 265842.27900 4077288.08200
SE_QUAD_CORNERY_XY: 265651.89800 4070352.93300
SW_QUAD_CORNER_XY: 260071.02300 4070507.85000
SECONDARY_NW_QUAD_XY: 260260.13100 4077240.49300
SECONDARY_NE_QUAD_XY: 265836.59800 4077085.47200
SECONDARY_SE_QUAD_XY: 265646.22200 4070150.48900
SECONDARY_SW_QUAD_XY: 260065.21200 4070305.40900
RMSE_XY: 1.21000
IMAGE_SOURCE: BLACK AND WHITE FILM
SOURCE_IMAGE_ID: NAPP 10560 108
SOURCE_IMAGE_DATE: 1998 09 12
SOURCE_DEM_DATE: 1981 00 00
AGENCY: WESTERN MAPPING CENTER (WMC)
PRODUCER: SANBORN COLORADO, L.L.C.
PRODUCTION_SYSTEM: ORBIT OR_RECTIFY V.5.2
COMPRESSION: UNDEFINED
STANDARD_VERSION: 1996 12
METADATA_DATE: 2001 11 09
DATA_FILE_SIZE: 49967280
BYTE_COUNT: 6480
