FILENAME: 36119G73
QUADRANGLE_NAME: FRESNO NORTH
QUADRANT: SE
WEST_LONGITUDE: -119 48 45.00000
EAST_LONGITUDE: -119 45 0.00000
NORTH_LATITUDE: 36 48 45.00000
SOUTH_LATITUDE: 36 45 0.00000
PRODUCTION_DATE: 2001 11 08
RASTER_ORDER: LEFT_RIGHT/TOP_BOTTOM
BAND_ORGANIZATION: SINGLE FILE
BAND_CONTENT: BLACK&WHITE
BAND_CONTENT: UNDEFINED
BAND_CONTENT: UNDEFINED
BITS_PER_PIXEL: 8
SAMPLES_AND_LINES: 6480 7740
HORIZONTAL_DATUM: NAD83
HORIZONTAL_COORDINATE_SYSTEM: UTM
COORDINATE_ZONE: 11
HORIZONTAL_UNITS: METERS
HORIZONTAL_RESOLUTION: 1.00000
SECONDARY_HORIZONTAL_DATUM: NAD27
XY_ORIGIN: 248520.00000 4078080.00000
SECONDARY_XY_ORIGIN: 248601.58900 4077880.53100
NATION: US
STATE: CA
NW_QUAD_CORNER_XY: 249113.03700 4077764.09900
NE_QUAD_CORNER_XY: 254689.53300 4077601.77100
SE_QUAD_CORNERY_XY: 254490.06700 4070666.42000
SW_QUAD_CORNER_XY: 248909.02700 4070828.64400
SECONDARY_NW_QUAD_XY: 249106.95000 4077561.50100
SECONDARY_NE_QUAD_XY: 254683.58200 4077399.16900
SECONDARY_SE_QUAD_XY: 254484.12000 4070463.98300
SECONDARY_SW_QUAD_XY: 248902.94500 4070626.21100
RMSE_XY: 0.68000
IMAGE_SOURCE: BLACK AND WHITE FILM
SOURCE_IMAGE_ID: NAPP 10547 97
SOURCE_IMAGE_DATE: 1998 08 17
SOURCE_DEM_DATE: 1981 00 00
AGENCY: WESTERN MAPPING CENTER (WMC)
PRODUCER: SANBORN COLORADO, L.L.C.
PRODUCTION_SYSTEM: ORBIT OR_RECTIFY V.5.2
COMPRESSION: UNDEFINED
STANDARD_VERSION: 1996 12
METADATA_DATE: 2001 11 09
DATA_FILE_SIZE: 50161680
BYTE_COUNT: 6480
