FILENAME: 36119G82
QUADRANGLE_NAME: HERNDON
QUADRANT: NE
WEST_LONGITUDE: -119 56 15.00000
EAST_LONGITUDE: -119 52 30.00000
NORTH_LATITUDE: 36 52 30.00000
SOUTH_LATITUDE: 36 48 45.00000
PRODUCTION_DATE: 2001 11 08
RASTER_ORDER: LEFT_RIGHT/TOP_BOTTOM
BAND_ORGANIZATION: SINGLE FILE
BAND_CONTENT: BLACK&WHITE
BAND_CONTENT: UNDEFINED
BAND_CONTENT: UNDEFINED
BITS_PER_PIXEL: 8
SAMPLES_AND_LINES: 6480 7740
HORIZONTAL_DATUM: NAD83
HORIZONTAL_COORDINATE_SYSTEM: UTM
COORDINATE_ZONE: 11
HORIZONTAL_UNITS: METERS
HORIZONTAL_RESOLUTION: 1.00000
SECONDARY_HORIZONTAL_DATUM: NAD27
XY_ORIGIN: 237570.00000 4085340.00000
SECONDARY_XY_ORIGIN: 237651.93000 4085140.42900
NATION: US
STATE: CA
NW_QUAD_CORNER_XY: 238173.19900 4085035.45100
NE_QUAD_CORNER_XY: 243745.31500 4084865.70100
SE_QUAD_CORNERY_XY: 243536.45500 4077930.08400
SW_QUAD_CORNER_XY: 237959.78800 4078099.72500
SECONDARY_NW_QUAD_XY: 238166.83700 4084832.69700
SECONDARY_NE_QUAD_XY: 243739.08800 4084662.94300
SECONDARY_SE_QUAD_XY: 243530.23300 4077727.49000
SECONDARY_SW_QUAD_XY: 237953.43000 4077897.13500
RMSE_XY: 0.80000
IMAGE_SOURCE: BLACK AND WHITE FILM
SOURCE_IMAGE_ID: NAPP 10547 41
SOURCE_IMAGE_DATE: 1998 08 17
SOURCE_DEM_DATE: 1964 00 00
AGENCY: WESTERN MAPPING CENTER (WMC)
PRODUCER: SANBORN COLORADO, L.L.C.
PRODUCTION_SYSTEM: ORBIT OR_RECTIFY V.5.2
COMPRESSION: UNDEFINED
STANDARD_VERSION: 1996 12
METADATA_DATE: 2001 11 09
DATA_FILE_SIZE: 50161680
BYTE_COUNT: 6480
