FILENAME: 36119G84
QUADRANGLE_NAME: HERNDON
QUADRANT: SW
WEST_LONGITUDE: -120 0 0.00000
EAST_LONGITUDE: -119 56 15.00000
NORTH_LATITUDE: 36 48 45.00000
SOUTH_LATITUDE: 36 45 0.00000
PRODUCTION_DATE: 2001 11 08
RASTER_ORDER: LEFT_RIGHT/TOP_BOTTOM
BAND_ORGANIZATION: SINGLE FILE
BAND_CONTENT: BLACK&WHITE
BAND_CONTENT: UNDEFINED
BAND_CONTENT: UNDEFINED
BITS_PER_PIXEL: 8
SAMPLES_AND_LINES: 6510 7740
HORIZONTAL_DATUM: NAD83
HORIZONTAL_COORDINATE_SYSTEM: UTM
COORDINATE_ZONE: 11
HORIZONTAL_UNITS: METERS
HORIZONTAL_RESOLUTION: 1.00000
SECONDARY_HORIZONTAL_DATUM: NAD27
XY_ORIGIN: 231750.00000 4078590.00000
SECONDARY_XY_ORIGIN: 231832.07000 4078390.71300
NATION: US
STATE: CA
NW_QUAD_CORNER_XY: 232383.03200 4078273.02400
NE_QUAD_CORNER_XY: 237959.78800 4078099.72500
SE_QUAD_CORNERY_XY: 237746.68900 4071164.05300
SW_QUAD_CORNER_XY: 232165.38700 4071337.24000
SECONDARY_NW_QUAD_XY: 232376.53900 4078070.43800
SECONDARY_NE_QUAD_XY: 237953.43000 4077897.13500
SECONDARY_SE_QUAD_XY: 237740.33600 4070961.62800
SECONDARY_SW_QUAD_XY: 232158.89900 4071134.82000
RMSE_XY: 1.19000
IMAGE_SOURCE: BLACK AND WHITE FILM
SOURCE_IMAGE_ID: NAPP 10547 20
SOURCE_IMAGE_DATE: 1998 08 17
SOURCE_DEM_DATE: 1964 00 00
AGENCY: WESTERN MAPPING CENTER (WMC)
PRODUCER: SANBORN COLORADO, L.L.C.
PRODUCTION_SYSTEM: ORBIT OR_RECTIFY V.5.2
COMPRESSION: UNDEFINED
STANDARD_VERSION: 1996 12
METADATA_DATE: 2001 11 13
DATA_FILE_SIZE: 50393910
BYTE_COUNT: 6510
