BEGIN_USGS_DOQ_HEADER *
QUADRANGLE_NAME "PATTERSON MOUNTAIN" 3.45 or 7.5-min. name*
QUADRANT NE quadrant indicator if cell size = 3.75-minutes*
WEST_LONGITUDE -119 3 45.000 signed deg min sec SDDD MM SS.SSS*
EAST_LONGITUDE -119 0 0.000 signed deg min sec SDDD MM SS.SSS*
NORTH_LATITUDE 37 0 0.000 signed deg min sec SDDD MM SS.SSS*
SOUTH_LATITUDE 36 56 15.000 signed deg min sec SDDD MM SS.SSS*
PRODUCTION_DATE 1997 6 6 yyyy mm dd*
RASTER_ORDER LEFT_RIGHT/TOP_BOTTOM video display order*
BAND_ORGANIZATION "SINGLE FILE" single file or BSQ, or BIL or BIP*
BAND_CONTENT BLACK&WHITE black&white or red green blue*
BITS_PER_PIXEL 8 radiometric resolution*
SAMPLES_AND_LINES 6399 7660 number of columns and rows*
HORIZONTAL_DATUM NAD83 primary horizontal datum*
HORIZONTAL_COORDINATE_SYSTEM UTM *
COORDINATE_ZONE 11 coordinate system zone number*
HORIZONTAL_UNITS METERS coordinate system units*
HORIZONTAL_RESOLUTION 1.00 pixel horiz. ground sample distance*
SECONDARY_HORIZONTAL_DATUM NAD27 secondary horizontal datum*
XY_ORIGIN 315940.000 4097161.000 coord. of upper left pixel pri. datum*
SECONDARY_XY_ORIGIN 316020.022 4096961.986 coord upper left pixel sec datum*
NATION US nation code*
STATE CA state fip code*
NW_QUAD_CORNER_XY 316475.834 4096860.777 XY coords. of pri. NW quad corner*
NE_QUAD_CORNER_XY 322037.810 4096742.059 XY coords. of pri. NE quad corner*
SE_QUAD_CORNER_XY 321892.181 4089807.588 XY coords. of pri. SE quad corner*
SW_QUAD_CORNER_XY 316325.649 4089926.231 XY coords. of pri. SW quad corner*
SECONDARY_NW_QUAD_XY 316471.361 4096657.646 XY coords. - sec. NW quad cor.*
SECONDARY_NE_QUAD_XY 322033.473 4096538.925 XY coords. - sec. NE quad cor.*
SECONDARY_SE_QUAD_XY 321887.848 4089604.617 XY coords. - sec. SE quad cor.*
SECONDARY_SW_QUAD_XY 316321.179 4089723.263 XY coords. - sec. SW quad cor.*
RMSE_XY 2.80 doq horiz. accuracy*
IMAGE_SOURCE "BLACK AND WHITE FILM" b&w, cir, natural color, other*
SOURCE_IMAGE_ID "NAPP 6314 112" source image id*
SOURCE_IMAGE_DATE 1993 9 29 source image date as yyyy mm dd*
SOURCE_DEM_DATE 1997 6 6 source dem date yyyy mm dd*
AGENCY "WESTERN MAPPING CENTER (WMC)" oversight agency*
PRODUCER "Science Applications International" producer/contractor*
PRODUCTION_SYSTEM "GIS/MAGIC" production system*
STANDARD_VERSION 1996 12 version of DOQ standard*
METADATA_DATE 1997 10 28 date created or changed, yyyy mm dd*
DATA_FILE_SIZE 49022739 data set size in bytes*
BYTE_COUNT 6399 header byte count* * * * * * * * * * * * * * * * * * * * * * * * * * * * * * * * * * * * *
END_USGS_HEADER *
