BEGIN_USGS_DOQ_HEADER *
QUADRANGLE_NAME "PATTERSON MOUNTAIN" *
QUADRANT NE *
WEST_LONGITUDE -119 3 45.000 *
EAST_LONGITUDE -119 0 0.000 *
NORTH_LATITUDE 37 0 0.000 *
SOUTH_LATITUDE 36 56 15.000 *
PRODUCTION_DATE 2001 10 19 *
RASTER_ORDER LEFT_RIGHT/TOP_BOTTOM *
BAND_ORGANIZATION "SINGLE FILE" *
BAND_CONTENT BLACK&WHITE *
BITS_PER_PIXEL 8 *
SAMPLES_AND_LINES 6393 7653 *
HORIZONTAL_DATUM NAD83 *
HORIZONTAL_COORDINATE_SYSTEM UTM *
COORDINATE_ZONE 11 *
HORIZONTAL_UNITS METERS *
HORIZONTAL_RESOLUTION 1.0 *
SECONDARY_HORIZONTAL_DATUM NAD27 *
XY_ORIGIN 315943.157 4097158.777 *
SECONDARY_XY_ORIGIN 316023.183 4096959.761 *
NATION US *
STATE CA *
NW_QUAD_CORNER_XY 316475.834 4096860.777 *
NE_QUAD_CORNER_XY 322037.810 4096742.059 *
SE_QUAD_CORNER_XY 321892.181 4089807.588 *
SW_QUAD_CORNER_XY 316325.649 4089926.231 *
SECONDARY_NW_QUAD_XY 316471.364 4096657.645 *
SECONDARY_NE_QUAD_XY 322033.476 4096538.925 *
SECONDARY_SE_QUAD_XY 321887.851 4089604.616 *
SECONDARY_SW_QUAD_XY 316321.183 4089723.262 *
RMSE_XY 2.35 *
IMAGE_SOURCE "BLACK AND WHITE FILM" *
SOURCE_IMAGE_ID "NAPP 10556 120" *
SOURCE_IMAGE_DATE 1998 8 26 *
SOURCE_IMAGE_ID "NAPP 10556 121" *
SOURCE_IMAGE_DATE 1998 8 26 *
SOURCE_IMAGE_ID "NAPP 10556 119" *
SOURCE_IMAGE_DATE 1998 8 26 *
SOURCE_IMAGE_ID "NAPP 10556 126" *
SOURCE_IMAGE_DATE 1998 8 26 *
SOURCE_IMAGE_ID "NAPP 10556 127" *
SOURCE_IMAGE_DATE 1998 8 26 *
SOURCE_IMAGE_ID "NAPP 10556 128" *
SOURCE_IMAGE_DATE 1998 8 26 *
SOURCE_IMAGE_ID "NAPP 10556 266" *
SOURCE_IMAGE_DATE 1998 8 26 *
SOURCE_IMAGE_ID "NAPP 10556 265" *
SOURCE_IMAGE_DATE 1998 8 26 *
SOURCE_IMAGE_ID "NAPP 10556 264" *
SOURCE_IMAGE_DATE 1998 8 26 *
SOURCE_DEM_DATE 2000 0 0 *
AGENCY "WESTERN MAPPING CENTER (WMC)" *
PRODUCER "USDA FS GEOSPATIAL SERVICE AND TECHNOLOGY CENTER" *
PRODUCTION_SYSTEM "ORBIT OR_RECTIFY V.5.2" *
STANDARD_VERSION 1996 12 *
METADATA_DATE 2001 10 23 *
DATA_FILE_SIZE 48932022 *
BYTE_COUNT 6393 * * * * * * * * * * * * * * * * * * * * *
END_USGS_HEADER *
