BEGIN_USGS_DOQ_HEADER *
QUADRANGLE_NAME "PATTERSON MOUNTAIN" 3.45 or 7.5-min. name*
QUADRANT SE quadrant indicator if cell size = 3.75-minutes*
WEST_LONGITUDE -119 3 45.000 signed deg min sec SDDD MM SS.SSS*
EAST_LONGITUDE -119 0 0.000 signed deg min sec SDDD MM SS.SSS*
NORTH_LATITUDE 36 56 15.000 signed deg min sec SDDD MM SS.SSS*
SOUTH_LATITUDE 36 52 30.000 signed deg min sec SDDD MM SS.SSS*
PRODUCTION_DATE 1997 4 16 yyyy mm dd*
RASTER_ORDER LEFT_RIGHT/TOP_BOTTOM video display order*
BAND_ORGANIZATION "SINGLE FILE" single file or BSQ, or BIL or BIP*
BAND_CONTENT BLACK&WHITE black&white or red green blue*
BITS_PER_PIXEL 8 radiometric resolution*
SAMPLES_AND_LINES 6404 7661 number of columns and rows*
HORIZONTAL_DATUM NAD83 primary horizontal datum*
HORIZONTAL_COORDINATE_SYSTEM UTM *
COORDINATE_ZONE 11 coordinate system zone number*
HORIZONTAL_UNITS METERS coordinate system units*
HORIZONTAL_RESOLUTION 1.00 pixel horiz. ground sample distance*
SECONDARY_HORIZONTAL_DATUM NAD27 secondary horizontal datum*
XY_ORIGIN 315790.000 4090227.000 coord. of upper left pixel pri. datum*
SECONDARY_XY_ORIGIN 315870.028 4090028.125 coord upper left pixel sec datum*
NATION US nation code*
STATE CA state fip code*
NW_QUAD_CORNER_XY 316325.649 4089926.231 XY coords. of pri. NW quad corner*
NE_QUAD_CORNER_XY 321892.181 4089807.588 XY coords. of pri. NE quad corner*
SE_QUAD_CORNER_XY 321746.765 4082873.181 XY coords. of pri. SE quad corner*
SW_QUAD_CORNER_XY 316175.683 4082991.749 XY coords. of pri. SW quad corner*
SECONDARY_NW_QUAD_XY 316321.179 4089723.263 XY coords. - sec. NW quad cor.*
SECONDARY_NE_QUAD_XY 321887.848 4089604.617 XY coords. - sec. NE quad cor.*
SECONDARY_SE_QUAD_XY 321742.435 4082670.374 XY coords. - sec. SE quad cor.*
SECONDARY_SW_QUAD_XY 316171.217 4082788.945 XY coords. - sec. SW quad cor.*
RMSE_XY 4.90 doq horiz. accuracy*
IMAGE_SOURCE "BLACK AND WHITE FILM" b&w, cir, natural color, other*
SOURCE_IMAGE_ID "NAPP 6314 110" source image id*
SOURCE_IMAGE_DATE 1993 9 29 source image date as yyyy mm dd*
IMAGE_SOURCE "BLACK AND WHITE FILM" b&w, cir, natural color, other*
SOURCE_IMAGE_ID "NAPP 6314 121" source image id*
SOURCE_IMAGE_DATE 1993 9 29 source image date as yyyy mm dd*
IMAGE_SOURCE "BLACK AND WHITE FILM" b&w, cir, natural color, other*
SOURCE_IMAGE_ID "NAPP 6314 109" source image id*
SOURCE_IMAGE_DATE 1993 9 29 source image date as yyyy mm dd*
IMAGE_SOURCE "BLACK AND WHITE FILM" b&w, cir, natural color, other*
SOURCE_IMAGE_ID "NAPP 6314 111" source image id*
SOURCE_IMAGE_DATE 1993 9 29 source image date as yyyy mm dd*
IMAGE_SOURCE "BLACK AND WHITE FILM" b&w, cir, natural color, other*
SOURCE_IMAGE_ID "NAPP 6314 1" source image id*
SOURCE_IMAGE_DATE 1993 9 29 source image date as yyyy mm dd*
SOURCE_DEM_DATE 1997 4 16 source dem date yyyy mm dd*
AGENCY "WESTERN MAPPING CENTER (WMC)" oversight agency*
PRODUCER "Science Applications International" producer/contractor*
PRODUCTION_SYSTEM "GIS/MAGIC" production system*
STANDARD_VERSION 1996 12 version of DOQ standard*
METADATA_DATE 1997 10 28 date created or changed, yyyy mm dd*
DATA_FILE_SIZE 49067448 data set size in bytes*
BYTE_COUNT 6404 header byte count* * * * * * * * * * * * * * * * * * * * * * * * * *
END_USGS_HEADER *
