BEGIN_USGS_DOQ_HEADER *
QUADRANGLE_NAME "PATTERSON MOUNTAIN" *
QUADRANT SW *
WEST_LONGITUDE -119 7 30.000 *
EAST_LONGITUDE -119 3 45.000 *
NORTH_LATITUDE 36 56 15.000 *
SOUTH_LATITUDE 36 52 30.000 *
PRODUCTION_DATE 2001 10 19 *
RASTER_ORDER LEFT_RIGHT/TOP_BOTTOM *
BAND_ORGANIZATION "SINGLE FILE" *
BAND_CONTENT BLACK&WHITE *
BITS_PER_PIXEL 8 *
SAMPLES_AND_LINES 6402 7657 *
HORIZONTAL_DATUM NAD83 *
HORIZONTAL_COORDINATE_SYSTEM UTM *
COORDINATE_ZONE 11 *
HORIZONTAL_UNITS METERS *
HORIZONTAL_RESOLUTION 1.0 *
SECONDARY_HORIZONTAL_DATUM NAD27 *
XY_ORIGIN 310221.824 4090346.530 *
SECONDARY_XY_ORIGIN 310301.945 4090147.536 *
NATION US *
STATE CA *
NW_QUAD_CORNER_XY 310759.055 4090048.530 *
NE_QUAD_CORNER_XY 316325.649 4089926.231 *
SE_QUAD_CORNER_XY 316175.683 4082991.749 *
SW_QUAD_CORNER_XY 310604.538 4083113.970 *
SECONDARY_NW_QUAD_XY 310754.453 4089845.564 *
SECONDARY_NE_QUAD_XY 316321.183 4089723.262 *
SECONDARY_SE_QUAD_XY 316171.220 4082788.944 *
SECONDARY_SW_QUAD_XY 310599.940 4082911.168 *
RMSE_XY 2.35 *
IMAGE_SOURCE "BLACK AND WHITE FILM" *
SOURCE_IMAGE_ID "NAPP 10556 125" *
SOURCE_IMAGE_DATE 1998 8 26 *
SOURCE_IMAGE_ID "NAPP 10556 124" *
SOURCE_IMAGE_DATE 1998 8 26 *
SOURCE_IMAGE_ID "NAPP 10556 126" *
SOURCE_IMAGE_DATE 1998 8 26 *
SOURCE_IMAGE_ID "NAPP 10549 180" *
SOURCE_IMAGE_DATE 1998 8 20 *
SOURCE_IMAGE_ID "NAPP 10549 181" *
SOURCE_IMAGE_DATE 1998 8 20 *
SOURCE_IMAGE_ID "NAPP 10549 182" *
SOURCE_IMAGE_DATE 1998 8 20 *
SOURCE_IMAGE_ID "NAPP 10556 123" *
SOURCE_IMAGE_DATE 1998 8 26 *
SOURCE_IMAGE_ID "NAPP 10556 122" *
SOURCE_IMAGE_DATE 1998 8 26 *
SOURCE_IMAGE_ID "NAPP 10556 121" *
SOURCE_IMAGE_DATE 1998 8 26 *
SOURCE_DEM_DATE 2000 0 0 *
AGENCY "WESTERN MAPPING CENTER (WMC)" *
PRODUCER "USDA FS GEOSPATIAL SERVICE AND TECHNOLOGY CENTER" *
PRODUCTION_SYSTEM "ORBIT OR_RECTIFY V.5.2" *
STANDARD_VERSION 1996 12 *
METADATA_DATE 2001 10 23 *
DATA_FILE_SIZE 49026516 *
BYTE_COUNT 6402 * * * * * * * * * * * * * * * * * * * * * *
END_USGS_HEADER *
