BEGIN_USGS_DOQ_HEADER *
QUADRANGLE_NAME "SACATE RIDGE" *
QUADRANT NW *
WEST_LONGITUDE -119 15 0.000 *
EAST_LONGITUDE -119 11 15.000 *
NORTH_LATITUDE 37 0 0.000 *
SOUTH_LATITUDE 36 56 15.000 *
PRODUCTION_DATE 2001 10 19 *
RASTER_ORDER LEFT_RIGHT/TOP_BOTTOM *
BAND_ORGANIZATION "SINGLE FILE" *
BAND_CONTENT BLACK&WHITE *
BITS_PER_PIXEL 8 *
SAMPLES_AND_LINES 6407 7664 *
HORIZONTAL_DATUM NAD83 *
HORIZONTAL_COORDINATE_SYSTEM UTM *
COORDINATE_ZONE 11 *
HORIZONTAL_UNITS METERS *
HORIZONTAL_RESOLUTION 1.0 *
SECONDARY_HORIZONTAL_DATUM NAD27 *
XY_ORIGIN 299242.513 4097536.877 *
SECONDARY_XY_ORIGIN 299322.816 4097337.494 *
NATION US *
STATE CA *
NW_QUAD_CORNER_XY 299789.533 4097238.877 *
NE_QUAD_CORNER_XY 305351.697 4097109.186 *
SE_QUAD_CORNER_XY 305192.398 4090174.483 *
SW_QUAD_CORNER_XY 299625.676 4090304.093 *
SECONDARY_NW_QUAD_XY 299784.657 4097035.755 *
SECONDARY_NE_QUAD_XY 305346.956 4096906.060 *
SECONDARY_SE_QUAD_XY 305187.661 4089971.521 *
SECONDARY_SW_QUAD_XY 299620.804 4090101.134 *
RMSE_XY 2.35 *
IMAGE_SOURCE "BLACK AND WHITE FILM" *
SOURCE_IMAGE_ID "NAPP 10560 98" *
SOURCE_IMAGE_DATE 1998 9 12 *
SOURCE_IMAGE_ID "NAPP 10560 99" *
SOURCE_IMAGE_DATE 1998 9 12 *
SOURCE_IMAGE_ID "NAPP 10567 81" *
SOURCE_IMAGE_DATE 1999 8 1 *
SOURCE_IMAGE_ID "NAPP 10547 240" *
SOURCE_IMAGE_DATE 1998 8 17 *
SOURCE_IMAGE_ID "NAPP 10547 241" *
SOURCE_IMAGE_DATE 1998 8 17 *
SOURCE_IMAGE_ID "NAPP 10566 63" *
SOURCE_IMAGE_DATE 1999 7 30 *
SOURCE_IMAGE_ID "NAPP 10549 182" *
SOURCE_IMAGE_DATE 1998 8 20 *
SOURCE_IMAGE_ID "NAPP 10549 183" *
SOURCE_IMAGE_DATE 1998 8 20 *
SOURCE_IMAGE_ID "NAPP 10559 13" *
SOURCE_IMAGE_DATE 1998 9 12 *
SOURCE_DEM_DATE 2000 0 0 *
AGENCY "WESTERN MAPPING CENTER (WMC)" *
PRODUCER "USDA FS GEOSPATIAL SERVICE AND TECHNOLOGY CENTER" *
PRODUCTION_SYSTEM "ORBIT OR_RECTIFY V.5.2" *
STANDARD_VERSION 1996 12 *
METADATA_DATE 2001 10 23 *
DATA_FILE_SIZE 49109655 *
BYTE_COUNT 6407 * * * * * * * * * * * * * * * * * * * * * *
END_USGS_HEADER *
