BEGIN_USGS_DOQ_HEADER *
QUADRANGLE_NAME "SACATE RIDGE" 3.45 or 7.5-min. name*
QUADRANT SE quadrant indicator if cell size = 3.75-minutes*
WEST_LONGITUDE -119 11 15.000 signed deg min sec SDDD MM SS.SSS*
EAST_LONGITUDE -119 7 30.000 signed deg min sec SDDD MM SS.SSS*
NORTH_LATITUDE 36 56 15.000 signed deg min sec SDDD MM SS.SSS*
SOUTH_LATITUDE 36 52 30.000 signed deg min sec SDDD MM SS.SSS*
PRODUCTION_DATE 1997 4 11 yyyy mm dd*
RASTER_ORDER LEFT_RIGHT/TOP_BOTTOM video display order*
BAND_ORGANIZATION "SINGLE FILE" single file or BSQ, or BIL or BIP*
BAND_CONTENT BLACK&WHITE black&white or red green blue*
BITS_PER_PIXEL 8 radiometric resolution*
SAMPLES_AND_LINES 6414 7667 number of columns and rows*
HORIZONTAL_DATUM NAD83 primary horizontal datum*
HORIZONTAL_COORDINATE_SYSTEM UTM *
COORDINATE_ZONE 11 coordinate system zone number*
HORIZONTAL_UNITS METERS coordinate system units*
HORIZONTAL_RESOLUTION 1.00 pixel horiz. ground sample distance*
SECONDARY_HORIZONTAL_DATUM NAD27 secondary horizontal datum*
XY_ORIGIN 304647.000 4090475.000 coord. of upper left pixel pri. datum*
SECONDARY_XY_ORIGIN 304727.205 4090275.893 coord upper left pixel sec datum*
NATION US nation code*
STATE CA state fip code*
NW_QUAD_CORNER_XY 305192.398 4090174.483 XY coords. of pri. NW quad corner*
NE_QUAD_CORNER_XY 310759.055 4090048.529 XY coords. of pri. NE quad corner*
SE_QUAD_CORNER_XY 310604.538 4083113.970 XY coords. of pri. SE quad corner*
SW_QUAD_CORNER_XY 305033.330 4083239.843 XY coords. of pri. SW quad corner*
SECONDARY_NW_QUAD_XY 305187.657 4089971.521 XY coords. - sec. NW quad cor.*
SECONDARY_NE_QUAD_XY 310754.450 4089845.564 XY coords. - sec. NE quad cor.*
SECONDARY_SE_QUAD_XY 310599.937 4082911.168 XY coords. - sec. SE quad cor.*
SECONDARY_SW_QUAD_XY 305028.594 4083037.045 XY coords. - sec. SW quad cor.*
RMSE_XY 7.20 doq horiz. accuracy*
IMAGE_SOURCE "BLACK AND WHITE FILM" b&w, cir, natural color, other*
SOURCE_IMAGE_ID "NAPP 6296 209" source image id*
SOURCE_IMAGE_DATE 1993 5 29 source image date as yyyy mm dd*
IMAGE_SOURCE "BLACK AND WHITE FILM" b&w, cir, natural color, other*
SOURCE_IMAGE_ID "NAPP 6296 211" source image id*
SOURCE_IMAGE_DATE 1993 5 29 source image date as yyyy mm dd*
SOURCE_DEM_DATE 1997 4 11 source dem date yyyy mm dd*
AGENCY "WESTERN MAPPING CENTER (WMC)" oversight agency*
PRODUCER "Science Applications International" producer/contractor*
PRODUCTION_SYSTEM "GIS/MAGIC" production system*
STANDARD_VERSION 1996 12 version of DOQ standard*
METADATA_DATE 1997 10 25 date created or changed, yyyy mm dd*
DATA_FILE_SIZE 49182552 data set size in bytes*
BYTE_COUNT 6414 header byte count*
*
*
*
*
*
*
*
*
*
*
*
*
*
*
*
*
*
*
*
*
*
*
*
*
*
*
*
*
*
*
*
*
*
*
END_USGS_HEADER *