BEGIN_USGS_DOQ_HEADER *
QUADRANGLE_NAME "SACATE RIDGE" *
QUADRANT SW *
WEST_LONGITUDE -119 15 0.000 *
EAST_LONGITUDE -119 11 15.000 *
NORTH_LATITUDE 36 56 15.000 *
SOUTH_LATITUDE 36 52 30.000 *
PRODUCTION_DATE 2001 10 19 *
RASTER_ORDER LEFT_RIGHT/TOP_BOTTOM *
BAND_ORGANIZATION "SINGLE FILE" *
BAND_CONTENT BLACK&WHITE *
BITS_PER_PIXEL 8 *
SAMPLES_AND_LINES 6411 7664 *
HORIZONTAL_DATUM NAD83 *
HORIZONTAL_COORDINATE_SYSTEM UTM *
COORDINATE_ZONE 11 *
HORIZONTAL_UNITS METERS *
HORIZONTAL_RESOLUTION 1.0 *
SECONDARY_HORIZONTAL_DATUM NAD27 *
XY_ORIGIN 299078.902 4090602.093 *
SECONDARY_XY_ORIGIN 299159.203 4090402.866 *
NATION US *
STATE CA *
NW_QUAD_CORNER_XY 299625.676 4090304.093 *
NE_QUAD_CORNER_XY 305192.398 4090174.483 *
SE_QUAD_CORNER_XY 305033.330 4083239.844 *
SW_QUAD_CORNER_XY 299462.057 4083369.371 *
SECONDARY_NW_QUAD_XY 299620.804 4090101.134 *
SECONDARY_NE_QUAD_XY 305187.661 4089971.521 *
SECONDARY_SE_QUAD_XY 305028.597 4083037.045 *
SECONDARY_SW_QUAD_XY 299457.189 4083166.575 *
RMSE_XY 2.35 *
IMAGE_SOURCE "BLACK AND WHITE FILM" *
SOURCE_IMAGE_ID "NAPP 10560 100" *
SOURCE_IMAGE_DATE 1998 9 12 *
SOURCE_IMAGE_ID "NAPP 10560 101" *
SOURCE_IMAGE_DATE 1998 9 12 *
SOURCE_IMAGE_ID "NAPP 10560 99" *
SOURCE_IMAGE_DATE 1998 9 12 *
SOURCE_IMAGE_ID "NAPP 10547 238" *
SOURCE_IMAGE_DATE 1998 8 17 *
SOURCE_IMAGE_ID "NAPP 10547 239" *
SOURCE_IMAGE_DATE 1998 8 17 *
SOURCE_IMAGE_ID "NAPP 10547 240" *
SOURCE_IMAGE_DATE 1998 8 17 *
SOURCE_IMAGE_ID "NAPP 10549 180" *
SOURCE_IMAGE_DATE 1998 8 20 *
SOURCE_IMAGE_ID "NAPP 10549 181" *
SOURCE_IMAGE_DATE 1998 8 20 *
SOURCE_IMAGE_ID "NAPP 10549 182" *
SOURCE_IMAGE_DATE 1998 8 20 *
SOURCE_DEM_DATE 2000 0 0 *
AGENCY "WESTERN MAPPING CENTER (WMC)" *
PRODUCER "USDA FS GEOSPATIAL SERVICE AND TECHNOLOGY CENTER" *
PRODUCTION_SYSTEM "ORBIT OR_RECTIFY V.5.2" *
STANDARD_VERSION 1996 12 *
METADATA_DATE 2001 10 23 *
DATA_FILE_SIZE 49140315 *
BYTE_COUNT 6411 * * * * * * * * * * * * * * * * * * * * * *
END_USGS_HEADER *
