BEGIN_USGS_DOQ_HEADER *
QUADRANGLE_NAME "TRIMMER" 3.45 or 7.5-min. name*
QUADRANT NE quadrant indicator if cell size = 3.75-minutes*
WEST_LONGITUDE -119 18 45.000 signed deg min sec SDDD MM SS.SSS*
EAST_LONGITUDE -119 15 0.000 signed deg min sec SDDD MM SS.SSS*
NORTH_LATITUDE 37 0 0.000 signed deg min sec SDDD MM SS.SSS*
SOUTH_LATITUDE 36 56 15.000 signed deg min sec SDDD MM SS.SSS*
PRODUCTION_DATE 1997 6 6 yyyy mm dd*
RASTER_ORDER LEFT_RIGHT/TOP_BOTTOM video display order*
BAND_ORGANIZATION "SINGLE FILE" single file or BSQ, or BIL or BIP*
BAND_CONTENT BLACK&WHITE black&white or red green blue*
BITS_PER_PIXEL 8 radiometric resolution*
SAMPLES_AND_LINES 6419 7675 number of columns and rows*
HORIZONTAL_DATUM NAD83 primary horizontal datum*
HORIZONTAL_COORDINATE_SYSTEM UTM *
COORDINATE_ZONE 11 coordinate system zone number*
HORIZONTAL_UNITS METERS coordinate system units*
HORIZONTAL_RESOLUTION 1.00 pixel horiz. ground sample distance*
SECONDARY_HORIZONTAL_DATUM NAD27 secondary horizontal datum*
XY_ORIGIN 293672.000 4097673.000 coord. of upper left pixel pri. datum*
SECONDARY_XY_ORIGIN 293752.423 4097473.497 coord upper left pixel sec datum*
NATION US nation code*
STATE CA state fip code*
NW_QUAD_CORNER_XY 294227.303 4097372.227 XY coords. of pri. NW quad corner*
NE_QUAD_CORNER_XY 299789.533 4097238.877 XY coords. of pri. NE quad corner*
SE_QUAD_CORNER_XY 299625.676 4090304.093 XY coords. of pri. SE quad corner*
SW_QUAD_CORNER_XY 294058.887 4090437.359 XY coords. of pri. SW quad corner*
SECONDARY_NW_QUAD_XY 294222.288 4097169.109 XY coords. - sec. NW quad cor.*
SECONDARY_NE_QUAD_XY 299784.654 4097035.756 XY coords. - sec. NE quad cor.*
SECONDARY_SE_QUAD_XY 299620.800 4090101.134 XY coords. - sec. SE quad cor.*
SECONDARY_SW_QUAD_XY 294053.876 4090234.404 XY coords. - sec. SW quad cor.*
RMSE_XY 4.30 doq horiz. accuracy*
IMAGE_SOURCE "BLACK AND WHITE FILM" b&w, cir, natural color, other*
SOURCE_IMAGE_ID "NAPP 6296 173" source image id*
SOURCE_IMAGE_DATE 1993 5 29 source image date as yyyy mm dd*
SOURCE_DEM_DATE 1997 6 6 source dem date yyyy mm dd*
AGENCY "WESTERN MAPPING CENTER (WMC)" oversight agency*
PRODUCER "Science Applications International" producer/contractor*
PRODUCTION_SYSTEM "GIS/MAGIC" production system*
STANDARD_VERSION 1996 12 version of DOQ standard*
METADATA_DATE 1997 10 25 date created or changed, yyyy mm dd*
DATA_FILE_SIZE 49272244 data set size in bytes*
BYTE_COUNT 6419 header byte count* * * * * * * * * * * * * * * * * * * * * * * * * * * * * * * * * * * * * *
END_USGS_HEADER *
