BEGIN_USGS_DOQ_HEADER *
QUADRANGLE_NAME "TRIMMER" *
QUADRANT NW *
WEST_LONGITUDE -119 22 30.000 *
EAST_LONGITUDE -119 18 45.000 *
NORTH_LATITUDE 37 0 0.000 *
SOUTH_LATITUDE 36 56 15.000 *
PRODUCTION_DATE 2001 10 19 *
RASTER_ORDER LEFT_RIGHT/TOP_BOTTOM *
BAND_ORGANIZATION "SINGLE FILE" *
BAND_CONTENT BLACK&WHITE *
BITS_PER_PIXEL 8 *
SAMPLES_AND_LINES 6417 7672 *
HORIZONTAL_DATUM NAD83 *
HORIZONTAL_COORDINATE_SYSTEM UTM *
COORDINATE_ZONE 11 *
HORIZONTAL_UNITS METERS *
HORIZONTAL_RESOLUTION 1.0 *
SECONDARY_HORIZONTAL_DATUM NAD27 *
XY_ORIGIN 288108.355 4097807.237 *
SECONDARY_XY_ORIGIN 288188.904 4097607.618 *
NATION US *
STATE CA *
NW_QUAD_CORNER_XY 288665.005 4097509.237 *
NE_QUAD_CORNER_XY 294227.303 4097372.228 *
SE_QUAD_CORNER_XY 294058.887 4090437.359 *
SW_QUAD_CORNER_XY 288492.030 4090574.283 *
SECONDARY_NW_QUAD_XY 288659.858 4097306.121 *
SECONDARY_NE_QUAD_XY 294222.292 4097169.108 *
SECONDARY_SE_QUAD_XY 294053.879 4090234.403 *
SECONDARY_SW_QUAD_XY 288486.886 4090371.330 *
RMSE_XY 2.35 *
IMAGE_SOURCE "BLACK AND WHITE FILM" *
SOURCE_IMAGE_ID "NAPP 10547 211" *
SOURCE_IMAGE_DATE 1998 8 17 *
SOURCE_IMAGE_ID "NAPP 10547 210" *
SOURCE_IMAGE_DATE 1998 8 17 *
SOURCE_IMAGE_ID "NAPP 10566 46" *
SOURCE_IMAGE_DATE 1999 7 30 *
SOURCE_IMAGE_ID "NAPP 10549 175" *
SOURCE_IMAGE_DATE 1998 8 20 *
SOURCE_IMAGE_ID "NAPP 10547 240" *
SOURCE_IMAGE_DATE 1998 8 17 *
SOURCE_IMAGE_ID "NAPP 10547 241" *
SOURCE_IMAGE_DATE 1998 8 17 *
SOURCE_IMAGE_ID "NAPP 10566 63" *
SOURCE_IMAGE_DATE 1999 7 30 *
SOURCE_DEM_DATE 2000 0 0 *
AGENCY "WESTERN MAPPING CENTER (WMC)" *
PRODUCER "USDA FS GEOSPATIAL SERVICE AND TECHNOLOGY CENTER" *
PRODUCTION_SYSTEM "ORBIT OR_RECTIFY V.5.2" *
STANDARD_VERSION 1996 12 *
METADATA_DATE 2001 10 23 *
DATA_FILE_SIZE 49237641 *
BYTE_COUNT 6417 * * * * * * * * * * * * * * * * * * * * * * * * * *
END_USGS_HEADER *
