BEGIN_USGS_DOQ_HEADER *
QUADRANGLE_NAME "TRIMMER" *
QUADRANT SE *
WEST_LONGITUDE -119 18 45.000 *
EAST_LONGITUDE -119 15 0.000 *
NORTH_LATITUDE 36 56 15.000 *
SOUTH_LATITUDE 36 52 30.000 *
PRODUCTION_DATE 2001 10 19 *
RASTER_ORDER LEFT_RIGHT/TOP_BOTTOM *
BAND_ORGANIZATION "SINGLE FILE" *
BAND_CONTENT BLACK&WHITE *
BITS_PER_PIXEL 8 *
SAMPLES_AND_LINES 6416 7668 *
HORIZONTAL_DATUM NAD83 *
HORIZONTAL_COORDINATE_SYSTEM UTM *
COORDINATE_ZONE 11 *
HORIZONTAL_UNITS METERS *
HORIZONTAL_RESOLUTION 1.0 *
SECONDARY_HORIZONTAL_DATUM NAD27 *
XY_ORIGIN 293507.308 4090735.359 *
SECONDARY_XY_ORIGIN 293587.730 4090536.014 *
NATION US *
STATE CA *
NW_QUAD_CORNER_XY 294058.887 4090437.359 *
NE_QUAD_CORNER_XY 299625.676 4090304.093 *
SE_QUAD_CORNER_XY 299462.057 4083369.371 *
SW_QUAD_CORNER_XY 293890.717 4083502.553 *
SECONDARY_NW_QUAD_XY 294053.879 4090234.403 *
SECONDARY_NE_QUAD_XY 299620.804 4090101.134 *
SECONDARY_SE_QUAD_XY 299457.189 4083166.575 *
SECONDARY_SW_QUAD_XY 293885.713 4083299.760 *
RMSE_XY 2.35 *
IMAGE_SOURCE "BLACK AND WHITE FILM" *
SOURCE_IMAGE_ID "NAPP 10547 239" *
SOURCE_IMAGE_DATE 1998 8 17 *
SOURCE_IMAGE_ID "NAPP 10547 238" *
SOURCE_IMAGE_DATE 1998 8 17 *
SOURCE_IMAGE_ID "NAPP 10547 240" *
SOURCE_IMAGE_DATE 1998 8 17 *
SOURCE_IMAGE_ID "NAPP 10547 208" *
SOURCE_IMAGE_DATE 1998 8 17 *
SOURCE_IMAGE_ID "NAPP 10547 209" *
SOURCE_IMAGE_DATE 1998 8 17 *
SOURCE_IMAGE_ID "NAPP 10547 210" *
SOURCE_IMAGE_DATE 1998 8 17 *
SOURCE_IMAGE_ID "NAPP 10560 101" *
SOURCE_IMAGE_DATE 1998 9 12 *
SOURCE_IMAGE_ID "NAPP 10560 100" *
SOURCE_IMAGE_DATE 1998 9 12 *
SOURCE_IMAGE_ID "NAPP 10560 99" *
SOURCE_IMAGE_DATE 1998 9 12 *
SOURCE_DEM_DATE 2000 0 0 *
AGENCY "WESTERN MAPPING CENTER (WMC)" *
PRODUCER "USDA FS GEOSPATIAL SERVICE AND TECHNOLOGY CENTER" *
PRODUCTION_SYSTEM "ORBIT OR_RECTIFY V.5.2" *
STANDARD_VERSION 1996 12 *
METADATA_DATE 2001 10 23 *
DATA_FILE_SIZE 49204304 *
BYTE_COUNT 6416 * * * * * * * * * * * * * * * * * * * * * *
END_USGS_HEADER *
