BEGIN_USGS_DOQ_HEADER *
QUADRANGLE_NAME "TRIMMER" *
QUADRANT SW *
WEST_LONGITUDE -119 22 30.000 *
EAST_LONGITUDE -119 18 45.000 *
NORTH_LATITUDE 36 56 15.000 *
SOUTH_LATITUDE 36 52 30.000 *
PRODUCTION_DATE 2001 10 19 *
RASTER_ORDER LEFT_RIGHT/TOP_BOTTOM *
BAND_ORGANIZATION "SINGLE FILE" *
BAND_CONTENT BLACK&WHITE *
BITS_PER_PIXEL 8 *
SAMPLES_AND_LINES 6421 7671 *
HORIZONTAL_DATUM NAD83 *
HORIZONTAL_COORDINATE_SYSTEM UTM *
COORDINATE_ZONE 11 *
HORIZONTAL_UNITS METERS *
HORIZONTAL_RESOLUTION 1.0 *
SECONDARY_HORIZONTAL_DATUM NAD27 *
XY_ORIGIN 287935.644 4090872.283 *
SECONDARY_XY_ORIGIN 288016.187 4090672.819 *
NATION US *
STATE CA *
NW_QUAD_CORNER_XY 288492.030 4090574.283 *
NE_QUAD_CORNER_XY 294058.887 4090437.359 *
SE_QUAD_CORNER_XY 293890.717 4083502.553 *
SW_QUAD_CORNER_XY 288319.307 4083639.389 *
SECONDARY_NW_QUAD_XY 288486.886 4090371.330 *
SECONDARY_NE_QUAD_XY 294053.879 4090234.403 *
SECONDARY_SE_QUAD_XY 293885.713 4083299.760 *
SECONDARY_SW_QUAD_XY 288314.168 4083436.600 *
RMSE_XY 2.35 *
IMAGE_SOURCE "BLACK AND WHITE FILM" *
SOURCE_IMAGE_ID "NAPP 10547 209" *
SOURCE_IMAGE_DATE 1998 8 17 *
SOURCE_IMAGE_ID "NAPP 10547 208" *
SOURCE_IMAGE_DATE 1998 8 17 *
SOURCE_IMAGE_ID "NAPP 10547 210" *
SOURCE_IMAGE_DATE 1998 8 17 *
SOURCE_IMAGE_ID "NAPP 10547 238" *
SOURCE_IMAGE_DATE 1998 8 17 *
SOURCE_IMAGE_ID "NAPP 10547 239" *
SOURCE_IMAGE_DATE 1998 8 17 *
SOURCE_IMAGE_ID "NAPP 10547 240" *
SOURCE_IMAGE_DATE 1998 8 17 *
SOURCE_DEM_DATE 2000 0 0 *
AGENCY "WESTERN MAPPING CENTER (WMC)" *
PRODUCER "USDA FS GEOSPATIAL SERVICE AND TECHNOLOGY CENTER" *
PRODUCTION_SYSTEM "ORBIT OR_RECTIFY V.5.2" *
STANDARD_VERSION 1996 12 *
METADATA_DATE 2001 10 23 *
DATA_FILE_SIZE 49261912 *
BYTE_COUNT 6421 * * * * * * * * * * * * * * * * * * * * * * * * * * * *
END_USGS_HEADER *
