FILENAME: 36119H42
QUADRANGLE_NAME: HUMPHREYS STATION
QUADRANT: NE
WEST_LONGITUDE: -119 26 15.00000
EAST_LONGITUDE: -119 22 30.00000
NORTH_LATITUDE: 37 0 0.00000
SOUTH_LATITUDE: 36 56 15.00000
PRODUCTION_DATE: 2002 02 11
RASTER_ORDER: LEFT_RIGHT/TOP_BOTTOM
BAND_ORGANIZATION: SINGLE FILE
BAND_CONTENT: BLACK&WHITE
BAND_CONTENT: UNDEFINED
BAND_CONTENT: UNDEFINED
BITS_PER_PIXEL: 8
SAMPLES_AND_LINES: 6480 7710
HORIZONTAL_DATUM: NAD83
HORIZONTAL_COORDINATE_SYSTEM: UTM
COORDINATE_ZONE: 11
HORIZONTAL_UNITS: METERS
HORIZONTAL_RESOLUTION: 1.00000
SECONDARY_HORIZONTAL_DATUM: NAD27
XY_ORIGIN: 282510.00000 4097970.00000
SECONDARY_XY_ORIGIN: 282590.67000 4097770.25900
NATION: US
STATE: CA
NW_QUAD_CORNER_XY: 283102.63700 4097649.90600
NE_QUAD_CORNER_XY: 288665.00500 4097509.23700
SE_QUAD_CORNERY_XY: 288492.03000 4090574.28300
SW_QUAD_CORNER_XY: 282925.10200 4090714.86300
SECONDARY_NW_QUAD_XY: 283097.35000 4097446.79400
SECONDARY_NE_QUAD_XY: 288659.85400 4097306.12200
SECONDARY_SE_QUAD_XY: 288486.88300 4090371.33000
SECONDARY_SW_QUAD_XY: 282919.81900 4090511.91400
RMSE_XY: 0.69000
IMAGE_SOURCE: BLACK AND WHITE FILM
SOURCE_IMAGE_ID: NAPP 10549 176
SOURCE_IMAGE_DATE: 1998 08 20
SOURCE_IMAGE_ID: NAPP 10547 274
SOURCE_IMAGE_DATE: 1998 08 17
SOURCE_IMAGE_ID: NAPP 10549 178
SOURCE_IMAGE_DATE: 1998 08 20
SOURCE_DEM_DATE: 1965 00 00
AGENCY: WESTERN MAPPING CENTER (WMC)
PRODUCER: SANBORN COLORADO, L.L.C.
PRODUCTION_SYSTEM: ORBIT OR_RECTIFY V.5.2
COMPRESSION: UNDEFINED
STANDARD_VERSION: 1996 12
METADATA_DATE: 2002 02 28
DATA_FILE_SIZE: 49967280
BYTE_COUNT: 6480
