FILENAME: 36119H43
QUADRANGLE_NAME: HUMPHREYS STATION
QUADRANT: SE
WEST_LONGITUDE: -119 26 15.00000
EAST_LONGITUDE: -119 22 30.00000
NORTH_LATITUDE: 36 56 15.00000
SOUTH_LATITUDE: 36 52 30.00000
PRODUCTION_DATE: 2002 02 11
RASTER_ORDER: LEFT_RIGHT/TOP_BOTTOM
BAND_ORGANIZATION: SINGLE FILE
BAND_CONTENT: BLACK&WHITE
BAND_CONTENT: UNDEFINED
BAND_CONTENT: UNDEFINED
BITS_PER_PIXEL: 8
SAMPLES_AND_LINES: 6450 7710
HORIZONTAL_DATUM: NAD83
HORIZONTAL_COORDINATE_SYSTEM: UTM
COORDINATE_ZONE: 11
HORIZONTAL_UNITS: METERS
HORIZONTAL_RESOLUTION: 1.00000
SECONDARY_HORIZONTAL_DATUM: NAD27
XY_ORIGIN: 282360.00000 4091040.00000
SECONDARY_XY_ORIGIN: 282440.65900 4090840.41700
NATION: US
STATE: CA
NW_QUAD_CORNER_XY: 282925.10200 4090714.86300
NE_QUAD_CORNER_XY: 288492.03000 4090574.28300
SE_QUAD_CORNERY_XY: 288319.30700 4083639.38900
SW_QUAD_CORNER_XY: 282747.82600 4083779.88000
SECONDARY_NW_QUAD_XY: 282919.81900 4090511.91400
SECONDARY_NE_QUAD_XY: 288486.88300 4090371.33000
SECONDARY_SE_QUAD_XY: 288314.16400 4083436.60000
SECONDARY_SW_QUAD_XY: 282742.54800 4083577.09500
RMSE_XY: 1.46000
IMAGE_SOURCE: BLACK AND WHITE FILM
SOURCE_IMAGE_ID: NAPP 10549 178
SOURCE_IMAGE_DATE: 1998 08 20
SOURCE_IMAGE_ID: NAPP 10547 276
SOURCE_IMAGE_DATE: 1998 08 17
SOURCE_DEM_DATE: 1965 00 00
AGENCY: WESTERN MAPPING CENTER (WMC)
PRODUCER: SANBORN COLORADO, L.L.C.
PRODUCTION_SYSTEM: ORBIT OR_RECTIFY V.5.2
COMPRESSION: UNDEFINED
STANDARD_VERSION: 1996 12
METADATA_DATE: 2002 02 13
DATA_FILE_SIZE: 49735950
BYTE_COUNT: 6450
