FILENAME: 36119H52
QUADRANGLE_NAME: ACADEMY
QUADRANT: NE
WEST_LONGITUDE: -119 33 45.00000
EAST_LONGITUDE: -119 30 0.00000
NORTH_LATITUDE: 37 0 0.00000
SOUTH_LATITUDE: 36 56 15.00000
PRODUCTION_DATE: 2002 02 11
RASTER_ORDER: LEFT_RIGHT/TOP_BOTTOM
BAND_ORGANIZATION: SINGLE FILE
BAND_CONTENT: BLACK&WHITE
BAND_CONTENT: UNDEFINED
BAND_CONTENT: UNDEFINED
BITS_PER_PIXEL: 8
SAMPLES_AND_LINES: 6480 7740
HORIZONTAL_DATUM: NAD83
HORIZONTAL_COORDINATE_SYSTEM: UTM
COORDINATE_ZONE: 11
HORIZONTAL_UNITS: METERS
HORIZONTAL_RESOLUTION: 1.00000
SECONDARY_HORIZONTAL_DATUM: NAD27
XY_ORIGIN: 271380.00000 4098270.00000
SECONDARY_XY_ORIGIN: 271460.97700 4098070.10700
NATION: US
STATE: CA
NW_QUAD_CORNER_XY: 271977.68400 4097942.22500
NE_QUAD_CORNER_XY: 277540.19700 4097794.23500
SE_QUAD_CORNERY_XY: 277358.10200 4090859.10100
SW_QUAD_CORNER_XY: 271791.02800 4091006.99800
SECONDARY_NW_QUAD_XY: 271972.12600 4097739.12000
SECONDARY_NE_QUAD_XY: 277534.77500 4097591.12700
SECONDARY_SE_QUAD_XY: 277352.68400 4090656.15600
SECONDARY_SW_QUAD_XY: 271785.47400 4090804.05600
RMSE_XY: 1.48000
IMAGE_SOURCE: BLACK AND WHITE FILM
SOURCE_IMAGE_ID: NAPP 10547 180
SOURCE_IMAGE_DATE: 1998 08 17
SOURCE_DEM_DATE: 1964 00 00
AGENCY: WESTERN MAPPING CENTER (WMC)
PRODUCER: SANBORN COLORADO, L.L.C.
PRODUCTION_SYSTEM: ORBIT OR_RECTIFY V.5.2
COMPRESSION: UNDEFINED
STANDARD_VERSION: 1996 12
METADATA_DATE: 2002 02 12
DATA_FILE_SIZE: 50161680
BYTE_COUNT: 6480
