FILENAME: 36119H51
QUADRANGLE_NAME: ACADEMY
QUADRANT: NW
WEST_LONGITUDE: -119 37 30.00000
EAST_LONGITUDE: -119 33 45.00000
NORTH_LATITUDE: 37 0 0.00000
SOUTH_LATITUDE: 36 56 15.00000
PRODUCTION_DATE: 2002 02 11
RASTER_ORDER: LEFT_RIGHT/TOP_BOTTOM
BAND_ORGANIZATION: SINGLE FILE
BAND_CONTENT: BLACK&WHITE
BAND_CONTENT: UNDEFINED
BAND_CONTENT: UNDEFINED
BITS_PER_PIXEL: 8
SAMPLES_AND_LINES: 6450 7740
HORIZONTAL_DATUM: NAD83
HORIZONTAL_COORDINATE_SYSTEM: UTM
COORDINATE_ZONE: 11
HORIZONTAL_UNITS: METERS
HORIZONTAL_RESOLUTION: 1.00000
SECONDARY_HORIZONTAL_DATUM: NAD27
XY_ORIGIN: 265830.00000 4098420.00000
SECONDARY_XY_ORIGIN: 265911.15600 4098220.06700
NATION: US
STATE: CA
NW_QUAD_CORNER_XY: 266415.09600 4098093.87600
NE_QUAD_CORNER_XY: 271977.68400 4097942.22500
SE_QUAD_CORNERY_XY: 271791.02800 4091006.99800
SW_QUAD_CORNER_XY: 266223.87800 4091158.55300
SECONDARY_NW_QUAD_XY: 266409.40200 4097890.77500
SECONDARY_NE_QUAD_XY: 271972.12600 4097739.12000
SECONDARY_SE_QUAD_XY: 271785.47400 4090804.05600
SECONDARY_SW_QUAD_XY: 266218.18800 4090955.61500
RMSE_XY: 1.60000
IMAGE_SOURCE: BLACK AND WHITE FILM
SOURCE_IMAGE_ID: NAPP 10547 305
SOURCE_IMAGE_DATE: 1998 08 17
SOURCE_IMAGE_ID: NAPP 10547 303
SOURCE_IMAGE_DATE: 1998 08 17
SOURCE_DEM_DATE: 1964 00 00
AGENCY: WESTERN MAPPING CENTER (WMC)
PRODUCER: SANBORN COLORADO, L.L.C.
PRODUCTION_SYSTEM: ORBIT OR_RECTIFY V.5.2
COMPRESSION: UNDEFINED
STANDARD_VERSION: 1996 12
METADATA_DATE: 2002 02 12
DATA_FILE_SIZE: 49929450
BYTE_COUNT: 6450
