FILENAME: 36119H62
QUADRANGLE_NAME: FRIANT
QUADRANT: NE
WEST_LONGITUDE: -119 41 15.00000
EAST_LONGITUDE: -119 37 30.00000
NORTH_LATITUDE: 37 0 0.00000
SOUTH_LATITUDE: 36 56 15.00000
PRODUCTION_DATE: 2001 11 07
RASTER_ORDER: LEFT_RIGHT/TOP_BOTTOM
BAND_ORGANIZATION: SINGLE FILE
BAND_CONTENT: BLACK&WHITE
BAND_CONTENT: UNDEFINED
BAND_CONTENT: UNDEFINED
BITS_PER_PIXEL: 8
SAMPLES_AND_LINES: 6480 7740
HORIZONTAL_DATUM: NAD83
HORIZONTAL_COORDINATE_SYSTEM: UTM
COORDINATE_ZONE: 11
HORIZONTAL_UNITS: METERS
HORIZONTAL_RESOLUTION: 1.00000
SECONDARY_HORIZONTAL_DATUM: NAD27
XY_ORIGIN: 260250.00000 4098570.00000
SECONDARY_XY_ORIGIN: 260331.33500 4098370.02600
NATION: US
STATE: CA
NW_QUAD_CORNER_XY: 260852.43000 4098249.18800
NE_QUAD_CORNER_XY: 266415.09600 4098093.87600
SE_QUAD_CORNERY_XY: 266223.87800 4091158.55300
SW_QUAD_CORNER_XY: 260656.65000 4091313.76800
SECONDARY_NW_QUAD_XY: 260846.60000 4098046.09100
SECONDARY_NE_QUAD_XY: 266409.40200 4097890.77500
SECONDARY_SE_QUAD_XY: 266218.18800 4090955.61500
SECONDARY_SW_QUAD_XY: 260650.82500 4091110.83400
RMSE_XY: 1.63000
IMAGE_SOURCE: BLACK AND WHITE FILM
SOURCE_IMAGE_ID: NAPP 10560 114
SOURCE_IMAGE_DATE: 1998 09 12
SOURCE_IMAGE_ID: NAPP 10547 126
SOURCE_IMAGE_DATE: 1998 08 17
SOURCE_DEM_DATE: 1964 00 00
AGENCY: WESTERN MAPPING CENTER (WMC)
PRODUCER: SANBORN COLORADO, L.L.C.
PRODUCTION_SYSTEM: ORBIT OR_RECTIFY V.5.2
COMPRESSION: UNDEFINED
STANDARD_VERSION: 1996 12
METADATA_DATE: 2001 11 08
DATA_FILE_SIZE: 50161680
BYTE_COUNT: 6480
