FILENAME: 36119H71
QUADRANGLE_NAME: LANES BRIDGE
QUADRANT: NW
WEST_LONGITUDE: -119 52 30.00000
EAST_LONGITUDE: -119 48 45.00000
NORTH_LATITUDE: 37 0 0.00000
SOUTH_LATITUDE: 36 56 15.00000
PRODUCTION_DATE: 2001 11 07
RASTER_ORDER: LEFT_RIGHT/TOP_BOTTOM
BAND_ORGANIZATION: SINGLE FILE
BAND_CONTENT: BLACK&WHITE
BAND_CONTENT: UNDEFINED
BAND_CONTENT: UNDEFINED
BITS_PER_PIXEL: 8
SAMPLES_AND_LINES: 6510 7740
HORIZONTAL_DATUM: NAD83
HORIZONTAL_COORDINATE_SYSTEM: UTM
COORDINATE_ZONE: 11
HORIZONTAL_UNITS: METERS
HORIZONTAL_RESOLUTION: 1.00000
SECONDARY_HORIZONTAL_DATUM: NAD27
XY_ORIGIN: 243540.00000 4099050.00000
SECONDARY_XY_ORIGIN: 243621.82000 4098849.98800
NATION: US
STATE: CA
NW_QUAD_CORNER_XY: 244163.95100 4098737.10000
NE_QUAD_CORNER_XY: 249726.86000 4098570.80000
SE_QUAD_CORNERY_XY: 249521.95300 4091635.17800
SW_QUAD_CORNER_XY: 243954.48100 4091801.37300
SECONDARY_NW_QUAD_XY: 244157.71500 4098534.01500
SECONDARY_NE_QUAD_XY: 249720.75900 4098367.71100
SECONDARY_SE_QUAD_XY: 249515.85700 4091432.25100
SECONDARY_SW_QUAD_XY: 243948.24900 4091598.45100
RMSE_XY: 0.90000
IMAGE_SOURCE: BLACK AND WHITE FILM
SOURCE_IMAGE_ID: NAPP 10547 72
SOURCE_IMAGE_DATE: 1998 08 17
SOURCE_DEM_DATE: 1964 00 00
AGENCY: WESTERN MAPPING CENTER (WMC)
PRODUCER: SANBORN COLORADO, L.L.C.
PRODUCTION_SYSTEM: ORBIT OR_RECTIFY V.5.2
COMPRESSION: UNDEFINED
STANDARD_VERSION: 1996 12
METADATA_DATE: 2001 11 08
DATA_FILE_SIZE: 50393910
BYTE_COUNT: 6510
