FILENAME: 36119H73
QUADRANGLE_NAME: LANES BRIDGE
QUADRANT: SE
WEST_LONGITUDE: -119 48 45.00000
EAST_LONGITUDE: -119 45 0.00000
NORTH_LATITUDE: 36 56 15.00000
SOUTH_LATITUDE: 36 52 30.00000
PRODUCTION_DATE: 2001 11 07
RASTER_ORDER: LEFT_RIGHT/TOP_BOTTOM
BAND_ORGANIZATION: SINGLE FILE
BAND_CONTENT: BLACK&WHITE
BAND_CONTENT: UNDEFINED
BAND_CONTENT: UNDEFINED
BITS_PER_PIXEL: 8
SAMPLES_AND_LINES: 6480 7710
HORIZONTAL_DATUM: NAD83
HORIZONTAL_COORDINATE_SYSTEM: UTM
COORDINATE_ZONE: 11
HORIZONTAL_UNITS: METERS
HORIZONTAL_RESOLUTION: 1.00000
SECONDARY_HORIZONTAL_DATUM: NAD27
XY_ORIGIN: 248910.00000 4091940.00000
SECONDARY_XY_ORIGIN: 248991.64100 4091740.17100
NATION: US
STATE: CA
NW_QUAD_CORNER_XY: 249521.95300 4091635.17800
NE_QUAD_CORNER_XY: 255089.34200 4091472.64300
SE_QUAD_CORNERY_XY: 254889.29100 4084537.17900
SW_QUAD_CORNER_XY: 249317.34500 4084699.61100
SECONDARY_NW_QUAD_XY: 249515.85700 4091432.25100
SECONDARY_NE_QUAD_XY: 255083.38200 4091269.71200
SECONDARY_SE_QUAD_XY: 254883.33600 4084334.41200
SECONDARY_SW_QUAD_XY: 249311.25400 4084496.84800
RMSE_XY: 0.55000
IMAGE_SOURCE: BLACK AND WHITE FILM
SOURCE_IMAGE_ID: NAPP 10547 101
SOURCE_IMAGE_DATE: 1998 08 17
SOURCE_DEM_DATE: 1964 00 00
AGENCY: WESTERN MAPPING CENTER (WMC)
PRODUCER: SANBORN COLORADO, L.L.C.
PRODUCTION_SYSTEM: ORBIT OR_RECTIFY V.5.2
COMPRESSION: UNDEFINED
STANDARD_VERSION: 1996 12
METADATA_DATE: 2001 11 08
DATA_FILE_SIZE: 49967280
BYTE_COUNT: 6480
