BEGIN_USGS_DOQ_HEADER *
QUADRANGLE_NAME "PANCHO RICO VALLEY" *
QUADRANT SW *
NORTH_LATITUDE 36 03 45.000 *
WEST_LONGITUDE -120 52 30.000 *
SOUTH_LATITUDE 36 00 00.000 *
EAST_LONGITUDE -120 48 45.000 *
PRODUCTION_DATE 1998 10 19 *
RASTER_ORDER LEFT_RIGHT/TOP_BOTTOM *
BAND_ORGANIZATION "SINGLE FILE" *
BAND_CONTENT BLACK&WHITE *
BITS_PER_PIXEL 8 *
SAMPLES_AND_LINES 6480 7710 *
HORIZONTAL_DATUM NAD83 *
HORIZONTAL_COORDINATE_SYSTEM UTM *
COORDINATE_ZONE 10 *
HORIZONTAL_UNITS METERS *
HORIZONTAL_RESOLUTION 1.000 *
SECONDARY_HORIZONTAL_DATUM NAD27 *
XY_ORIGIN 690990.000 3993420.000 *
SECONDARY_XY_ORIGIN 691085.837 3993225.280 *
NATION US *
STATE CA *
NW_QUAD_CORNER_XY 691383.550 3992970.415 *
NE_QUAD_CORNER_XY 697013.312 3993095.194 *
SE_QUAD_CORNER_XY 697169.107 3986161.425 *
SW_QUAD_CORNER_XY 691534.887 3986036.734 *
SECONDARY_NW_QUAD_XY 691388.102 3992769.815 *
SECONDARY_NE_QUAD_XY 697017.999 3992894.597 *
SECONDARY_SE_QUAD_XY 697173.789 3985961.003 *
SECONDARY_SW_QUAD_XY 691539.436 3985836.309 *
RMSE_XY 3.090 *
IMAGE_SOURCE "BLACK AND WHITE FILM" *
SOURCE_IMAGE_ID "NAPP 6923 213" *
SOURCE_IMAGE_DATE 1994 05 28 *
SOURCE_DEM_DATE 1998 01 01 *
AGENCY "WESTERN MAPPING CENTER (WMC)" *
PRODUCER "ANALYTICAL SURVEYS INC." *
PRODUCTION_SYSTEM "ORBIT OR_RECTIFY V.5.2" *
STANDARD_VERSION 1996 12 *
METADATA_DATE 1998 10 21 *
DATA_FILE_SIZE 49967280 *
BYTE_COUNT 6480 * * * * * * * * * * * * * * * * * * * * * * * * * * * * * * * * * * * * * *
END_USGS_HEADER *
